BEGIN:VCALENDAR
VERSION:2.0
PRODID: Ultiorganizer


BEGIN:VEVENT
SUMMARY:Guam Master Mixed-CHN MX CUUP
DESCRIPTION:Master Mixed: Pool A
LOCATION:  6
DTSTART;TZID=Asia/Tokyo:20240612T140000
DURATION: P60M
GEO:;
END:VEVENT

BEGIN:VEVENT
SUMMARY:Australia Master Mixed-Guam Master Mixed
DESCRIPTION:Master Mixed: Pool A
LOCATION:  7
DTSTART;TZID=Asia/Tokyo:20240613T090000
DURATION: P60M
GEO:;
END:VEVENT

BEGIN:VEVENT
SUMMARY:JPN MX Re-roar-Guam Master Mixed
DESCRIPTION:Master Mixed: Pool A
LOCATION:  9
DTSTART;TZID=Asia/Tokyo:20240613T130000
DURATION: P60M
GEO:;
END:VEVENT

BEGIN:VEVENT
SUMMARY:Singapore Master Mixed #1-Guam Master Mixed
DESCRIPTION:Master Mixed: Pool A
LOCATION:  7
DTSTART;TZID=Asia/Tokyo:20240613T150000
DURATION: P60M
GEO:;
END:VEVENT

BEGIN:VEVENT
SUMMARY:CHN MX Naja Master-Guam Master Mixed
DESCRIPTION:Master Mixed: Pool A
LOCATION:  5
DTSTART;TZID=Asia/Tokyo:20240614T090000
DURATION: P60M
GEO:;
END:VEVENT

BEGIN:VEVENT
SUMMARY:Guam Master Mixed-Singapore Master Mixed #2
DESCRIPTION:Master Mixed: Pool A
LOCATION:  2
DTSTART;TZID=Asia/Tokyo:20240614T120000
DURATION: P60M
GEO:;
END:VEVENT

BEGIN:VEVENT
SUMMARY:India Master Mixed-Guam Master Mixed
DESCRIPTION:Master Mixed: Pool A
LOCATION:  3
DTSTART;TZID=Asia/Tokyo:20240614T160000
DURATION: P60M
GEO:;
END:VEVENT

BEGIN:VEVENT
SUMMARY:Australia Master Mixed-Guam Master Mixed
DESCRIPTION:Master Mixed: Playoff (1-8)
LOCATION:  1
DTSTART;TZID=Asia/Tokyo:20240615T090000
DURATION: P60M
GEO:;
END:VEVENT

BEGIN:VEVENT
SUMMARY:Guam Master Mixed-Singapore Master Mixed #2
DESCRIPTION:Master Mixed: Playoff (1-8) Semifinals
LOCATION:  1
DTSTART;TZID=Asia/Tokyo:20240615T110000
DURATION: P60M
GEO:;
END:VEVENT

BEGIN:VEVENT
SUMMARY:Guam Master Mixed-CHN MX Naja Master
DESCRIPTION:Master Mixed: Playoff (1-8) Finals
LOCATION:  1
DTSTART;TZID=Asia/Tokyo:20240615T130000
DURATION: P60M
GEO:;
END:VEVENT

END:VCALENDAR
