BEGIN:VCALENDAR
VERSION:2.0
PRODID: Ultiorganizer


BEGIN:VEVENT
SUMMARY:Singapore Master Mixed #1-India Master Mixed
DESCRIPTION:Master Mixed: Pool A
LOCATION:  4
DTSTART;TZID=Asia/Tokyo:20240612T130000
DURATION: P60M
GEO:;
END:VEVENT

BEGIN:VEVENT
SUMMARY:JPN MX Re-roar-India Master Mixed
DESCRIPTION:Master Mixed: Pool A
LOCATION:  9
DTSTART;TZID=Asia/Tokyo:20240613T110000
DURATION: P60M
GEO:;
END:VEVENT

BEGIN:VEVENT
SUMMARY:India Master Mixed-CHN MX Naja Master
DESCRIPTION:Master Mixed: Pool A
LOCATION:  8
DTSTART;TZID=Asia/Tokyo:20240613T150000
DURATION: P60M
GEO:;
END:VEVENT

BEGIN:VEVENT
SUMMARY:India Master Mixed-CHN MX CUUP
DESCRIPTION:Master Mixed: Pool A
LOCATION:  7
DTSTART;TZID=Asia/Tokyo:20240613T170000
DURATION: P60M
GEO:;
END:VEVENT

BEGIN:VEVENT
SUMMARY:India Master Mixed-Singapore Master Mixed #2
DESCRIPTION:Master Mixed: Pool A
LOCATION:  5
DTSTART;TZID=Asia/Tokyo:20240614T100000
DURATION: P60M
GEO:;
END:VEVENT

BEGIN:VEVENT
SUMMARY:Australia Master Mixed-India Master Mixed
DESCRIPTION:Master Mixed: Pool A
LOCATION:  2
DTSTART;TZID=Asia/Tokyo:20240614T140000
DURATION: P60M
GEO:;
END:VEVENT

BEGIN:VEVENT
SUMMARY:India Master Mixed-Guam Master Mixed
DESCRIPTION:Master Mixed: Pool A
LOCATION:  3
DTSTART;TZID=Asia/Tokyo:20240614T160000
DURATION: P60M
GEO:;
END:VEVENT

BEGIN:VEVENT
SUMMARY:CHN MX CUUP-India Master Mixed
DESCRIPTION:Master Mixed: Playoff (1-8)
LOCATION:  3
DTSTART;TZID=Asia/Tokyo:20240615T090000
DURATION: P60M
GEO:;
END:VEVENT

BEGIN:VEVENT
SUMMARY:CHN MX Naja Master-India Master Mixed
DESCRIPTION:Master Mixed: Playoff (1-8) Semifinals
LOCATION:  2
DTSTART;TZID=Asia/Tokyo:20240615T110000
DURATION: P60M
GEO:;
END:VEVENT

BEGIN:VEVENT
SUMMARY:Singapore Master Mixed #2-India Master Mixed
DESCRIPTION:Master Mixed: Playoff (1-8) Finals
LOCATION:  4
DTSTART;TZID=Asia/Tokyo:20240615T130000
DURATION: P60M
GEO:;
END:VEVENT

END:VCALENDAR
