BEGIN:VCALENDAR
VERSION:2.0
PRODID: Ultiorganizer


BEGIN:VEVENT
SUMMARY:JPN W DARUMASAN-JPN W HUCK
DESCRIPTION:Women's: Pool A
LOCATION:  5
DTSTART;TZID=Asia/Tokyo:20240612T140000
DURATION: P60M
GEO:;
END:VEVENT

BEGIN:VEVENT
SUMMARY:Australia Women's-JPN W HUCK
DESCRIPTION:Women's: Pool A
LOCATION:  1
DTSTART;TZID=Asia/Tokyo:20240612T160000
DURATION: P60M
GEO:;
END:VEVENT

BEGIN:VEVENT
SUMMARY:PHI W Binibinis-JPN W HUCK
DESCRIPTION:Women's: Pool A
LOCATION:  1
DTSTART;TZID=Asia/Tokyo:20240613T090000
DURATION: P60M
GEO:;
END:VEVENT

BEGIN:VEVENT
SUMMARY:Korea Women's-JPN W HUCK
DESCRIPTION:Women's: Pool A
LOCATION:  4
DTSTART;TZID=Asia/Tokyo:20240613T110000
DURATION: P60M
GEO:;
END:VEVENT

BEGIN:VEVENT
SUMMARY:JPN  W SWAMPYBARG-JPN W HUCK
DESCRIPTION:Women's: Pool A
LOCATION:  1
DTSTART;TZID=Asia/Tokyo:20240613T160000
DURATION: P60M
GEO:;
END:VEVENT

BEGIN:VEVENT
SUMMARY:SGP Club Women's-JPN W HUCK
DESCRIPTION:Women's: Pool A
LOCATION:  1
DTSTART;TZID=Asia/Tokyo:20240614T100000
DURATION: P60M
GEO:;
END:VEVENT

BEGIN:VEVENT
SUMMARY:CHN W Shirahama Mulan-JPN W HUCK
DESCRIPTION:Women's: Pool A
LOCATION:  3
DTSTART;TZID=Asia/Tokyo:20240614T140000
DURATION: P60M
GEO:;
END:VEVENT

BEGIN:VEVENT
SUMMARY:Singapore Women's-JPN W HUCK
DESCRIPTION:Women's: Pool A
LOCATION:  5
DTSTART;TZID=Asia/Tokyo:20240614T170000
DURATION: P60M
GEO:;
END:VEVENT

BEGIN:VEVENT
SUMMARY:Singapore Women's-JPN W HUCK
DESCRIPTION:Women's: Playoff (1-8)
LOCATION:  4
DTSTART;TZID=Asia/Tokyo:20240615T140000
DURATION: P60M
GEO:;
END:VEVENT

BEGIN:VEVENT
SUMMARY:SGP Club Women's-JPN W HUCK
DESCRIPTION:Women's: Playoff (1-8) Semifinals
LOCATION:  1
DTSTART;TZID=Asia/Tokyo:20240615T160000
DURATION: P60M
GEO:;
END:VEVENT

BEGIN:VEVENT
SUMMARY:JPN W HUCK-CHN W Shirahama Mulan
DESCRIPTION:Women's: Playoff (1-8) Finals
LOCATION:  1
DTSTART;TZID=Asia/Tokyo:20240616T103000
DURATION: P60M
GEO:;
END:VEVENT

END:VCALENDAR
