BEGIN:VCALENDAR
VERSION:2.0
PRODID: Ultiorganizer


BEGIN:VEVENT
SUMMARY:Australia Women's-CHN W Shirahama Mulan
DESCRIPTION:Women's: Pool A
LOCATION:  2
DTSTART;TZID=Asia/Tokyo:20240612T120000
DURATION: P60M
GEO:;
END:VEVENT

BEGIN:VEVENT
SUMMARY:Australia Women's-JPN W HUCK
DESCRIPTION:Women's: Pool A
LOCATION:  1
DTSTART;TZID=Asia/Tokyo:20240612T160000
DURATION: P60M
GEO:;
END:VEVENT

BEGIN:VEVENT
SUMMARY:Australia Women's-SGP Club Women's
DESCRIPTION:Women's: Pool A
LOCATION:  3
DTSTART;TZID=Asia/Tokyo:20240613T090000
DURATION: P60M
GEO:;
END:VEVENT

BEGIN:VEVENT
SUMMARY:PHI W Binibinis-Australia Women's
DESCRIPTION:Women's: Pool A
LOCATION:  1
DTSTART;TZID=Asia/Tokyo:20240613T110000
DURATION: P60M
GEO:;
END:VEVENT

BEGIN:VEVENT
SUMMARY:Australia Women's-Korea Women's
DESCRIPTION:Women's: Pool A
LOCATION:  4
DTSTART;TZID=Asia/Tokyo:20240613T160000
DURATION: P60M
GEO:;
END:VEVENT

BEGIN:VEVENT
SUMMARY:Singapore Women's-Australia Women's
DESCRIPTION:Women's: Pool A
LOCATION:  3
DTSTART;TZID=Asia/Tokyo:20240614T100000
DURATION: P60M
GEO:;
END:VEVENT

BEGIN:VEVENT
SUMMARY:JPN  W SWAMPYBARG-Australia Women's
DESCRIPTION:Women's: Pool A
LOCATION:  4
DTSTART;TZID=Asia/Tokyo:20240614T140000
DURATION: P60M
GEO:;
END:VEVENT

BEGIN:VEVENT
SUMMARY:Australia Women's-JPN W DARUMASAN
DESCRIPTION:Women's: Pool A
LOCATION:  6
DTSTART;TZID=Asia/Tokyo:20240614T160000
DURATION: P60M
GEO:;
END:VEVENT

BEGIN:VEVENT
SUMMARY:Australia Women's-JPN  W SWAMPYBARG
DESCRIPTION:Women's: Playoff (1-8)
LOCATION:  3
DTSTART;TZID=Asia/Tokyo:20240615T140000
DURATION: P60M
GEO:;
END:VEVENT

BEGIN:VEVENT
SUMMARY:JPN W DARUMASAN-Australia Women's
DESCRIPTION:Women's: Playoff (1-8) Semifinals
LOCATION:  4
DTSTART;TZID=Asia/Tokyo:20240615T160000
DURATION: P60M
GEO:;
END:VEVENT

BEGIN:VEVENT
SUMMARY:Singapore Women's-Australia Women's
DESCRIPTION:Women's: Playoff (1-8) Finals
LOCATION:  3
DTSTART;TZID=Asia/Tokyo:20240616T120000
DURATION: P60M
GEO:;
END:VEVENT

END:VCALENDAR
