BEGIN:VCALENDAR
VERSION:2.0
PRODID: Ultiorganizer


BEGIN:VEVENT
SUMMARY:Singapore Women's-Korea Women's
DESCRIPTION:Women's: Pool A
LOCATION:  3
DTSTART;TZID=Asia/Tokyo:20240612T120000
DURATION: P60M
GEO:;
END:VEVENT

BEGIN:VEVENT
SUMMARY:PHI W Binibinis-Korea Women's
DESCRIPTION:Women's: Pool A
LOCATION:  2
DTSTART;TZID=Asia/Tokyo:20240612T140000
DURATION: P60M
GEO:;
END:VEVENT

BEGIN:VEVENT
SUMMARY:CHN W Shirahama Mulan-Korea Women's
DESCRIPTION:Women's: Pool A
LOCATION:  5
DTSTART;TZID=Asia/Tokyo:20240613T090000
DURATION: P60M
GEO:;
END:VEVENT

BEGIN:VEVENT
SUMMARY:Korea Women's-JPN W HUCK
DESCRIPTION:Women's: Pool A
LOCATION:  4
DTSTART;TZID=Asia/Tokyo:20240613T110000
DURATION: P60M
GEO:;
END:VEVENT

BEGIN:VEVENT
SUMMARY:Australia Women's-Korea Women's
DESCRIPTION:Women's: Pool A
LOCATION:  4
DTSTART;TZID=Asia/Tokyo:20240613T160000
DURATION: P60M
GEO:;
END:VEVENT

BEGIN:VEVENT
SUMMARY:JPN  W SWAMPYBARG-Korea Women's
DESCRIPTION:Women's: Pool A
LOCATION:  2
DTSTART;TZID=Asia/Tokyo:20240614T100000
DURATION: P60M
GEO:;
END:VEVENT

BEGIN:VEVENT
SUMMARY:Korea Women's-JPN W DARUMASAN
DESCRIPTION:Women's: Pool A
LOCATION:  4
DTSTART;TZID=Asia/Tokyo:20240614T120000
DURATION: P60M
GEO:;
END:VEVENT

BEGIN:VEVENT
SUMMARY:Korea Women's-SGP Club Women's
DESCRIPTION:Women's: Pool A
LOCATION:  6
DTSTART;TZID=Asia/Tokyo:20240614T140000
DURATION: P60M
GEO:;
END:VEVENT

BEGIN:VEVENT
SUMMARY:SGP Club Women's-Korea Women's
DESCRIPTION:Women's: Pre-quarter
LOCATION:  5
DTSTART;TZID=Asia/Tokyo:20240615T120000
DURATION: P60M
GEO:;
END:VEVENT

END:VCALENDAR
