BEGIN:VCALENDAR
VERSION:2.0
PRODID: Ultiorganizer


BEGIN:VEVENT
SUMMARY:Malaysia Mixed-JPN X oluolu
DESCRIPTION:Mixed: Pool A
LOCATION:  3
DTSTART;TZID=Asia/Tokyo:20240612T130000
DURATION: P60M
GEO:;
END:VEVENT

BEGIN:VEVENT
SUMMARY:India Mixed-Malaysia Mixed
DESCRIPTION:Mixed: Pool A
LOCATION:  1
DTSTART;TZID=Asia/Tokyo:20240612T150000
DURATION: P60M
GEO:;
END:VEVENT

BEGIN:VEVENT
SUMMARY:PHI X Pilipinas Pirates-Malaysia Mixed
DESCRIPTION:Mixed: Pool A
LOCATION:  6
DTSTART;TZID=Asia/Tokyo:20240613T120000
DURATION: P60M
GEO:;
END:VEVENT

BEGIN:VEVENT
SUMMARY:Hong Kong, China Mixed-Malaysia Mixed
DESCRIPTION:Mixed: Pool A
LOCATION:  1
DTSTART;TZID=Asia/Tokyo:20240613T140000
DURATION: P60M
GEO:;
END:VEVENT

BEGIN:VEVENT
SUMMARY:Malaysia Mixed-JPN X IKU!
DESCRIPTION:Mixed: Pool A
LOCATION:  4
DTSTART;TZID=Asia/Tokyo:20240614T130000
DURATION: P60M
GEO:;
END:VEVENT

BEGIN:VEVENT
SUMMARY:CHN X MAXIMA TJ-Malaysia Mixed
DESCRIPTION:Mixed: Pool A
LOCATION:  2
DTSTART;TZID=Asia/Tokyo:20240614T150000
DURATION: P60M
GEO:;
END:VEVENT

BEGIN:VEVENT
SUMMARY:Singapore Mixed-Malaysia Mixed
DESCRIPTION:Mixed: Pool A
LOCATION:  4
DTSTART;TZID=Asia/Tokyo:20240614T170000
DURATION: P60M
GEO:;
END:VEVENT

BEGIN:VEVENT
SUMMARY:CHN X Team BT-Malaysia Mixed
DESCRIPTION:Mixed: Playoff (9-16)
LOCATION:  7
DTSTART;TZID=Asia/Tokyo:20240615T100000
DURATION: P60M
GEO:;
END:VEVENT

BEGIN:VEVENT
SUMMARY:Malaysia Mixed-Hong Kong, China Mixed
DESCRIPTION:Mixed: Playoff (9-16) Semifinals
LOCATION:  8
DTSTART;TZID=Asia/Tokyo:20240615T120000
DURATION: P60M
GEO:;
END:VEVENT

BEGIN:VEVENT
SUMMARY:CHN X MAXIMA TJ-Malaysia Mixed
DESCRIPTION:Mixed: Playoff (9-16) Finals
LOCATION:  8
DTSTART;TZID=Asia/Tokyo:20240615T150000
DURATION: P60M
GEO:;
END:VEVENT

END:VCALENDAR
