BEGIN:VCALENDAR
VERSION:2.0
PRODID: Ultiorganizer


BEGIN:VEVENT
SUMMARY:NZL X Full Sand-Guam Mixed
DESCRIPTION:Mixed: Pool B
LOCATION:  2
DTSTART;TZID=Asia/Tokyo:20240612T160000
DURATION: P60M
GEO:;
END:VEVENT

BEGIN:VEVENT
SUMMARY:NZL X Full Sand-Chinese Taipei Mixed
DESCRIPTION:Mixed: Pool B
LOCATION:  4
DTSTART;TZID=Asia/Tokyo:20240613T100000
DURATION: P60M
GEO:;
END:VEVENT

BEGIN:VEVENT
SUMMARY:Australia Mixed-NZL X Full Sand
DESCRIPTION:Mixed: Pool B
LOCATION:  1
DTSTART;TZID=Asia/Tokyo:20240613T130000
DURATION: P60M
GEO:;
END:VEVENT

BEGIN:VEVENT
SUMMARY:NZL X Full Sand-CHN X Team BT
DESCRIPTION:Mixed: Pool B
LOCATION:  3
DTSTART;TZID=Asia/Tokyo:20240613T150000
DURATION: P60M
GEO:;
END:VEVENT

BEGIN:VEVENT
SUMMARY:Japan Mixed-NZL X Full Sand
DESCRIPTION:Mixed: Pool B
LOCATION:  1
DTSTART;TZID=Asia/Tokyo:20240614T090000
DURATION: P60M
GEO:;
END:VEVENT

BEGIN:VEVENT
SUMMARY:NZL X Full Sand-JPN X Kuru
DESCRIPTION:Mixed: Pool B
LOCATION:  3
DTSTART;TZID=Asia/Tokyo:20240614T110000
DURATION: P60M
GEO:;
END:VEVENT

BEGIN:VEVENT
SUMMARY:NZL X Full Sand-JPN X SubRosa
DESCRIPTION:Mixed: Pool B
LOCATION:  3
DTSTART;TZID=Asia/Tokyo:20240614T130000
DURATION: P60M
GEO:;
END:VEVENT

BEGIN:VEVENT
SUMMARY:NZL X Full Sand-CHN X MAXIMA TJ
DESCRIPTION:Mixed: Playoff (9-16)
LOCATION:  8
DTSTART;TZID=Asia/Tokyo:20240615T090000
DURATION: P60M
GEO:;
END:VEVENT

BEGIN:VEVENT
SUMMARY:JPN X oluolu-NZL X Full Sand
DESCRIPTION:Mixed: Playoff (9-16) Semifinals
LOCATION:  7
DTSTART;TZID=Asia/Tokyo:20240615T110000
DURATION: P60M
GEO:;
END:VEVENT

BEGIN:VEVENT
SUMMARY:NZL X Full Sand-Guam Mixed
DESCRIPTION:Mixed: Playoff (9-16) Finals
LOCATION:  7
DTSTART;TZID=Asia/Tokyo:20240615T140000
DURATION: P60M
GEO:;
END:VEVENT

END:VCALENDAR
