BEGIN:VCALENDAR
VERSION:2.0
PRODID: Ultiorganizer


BEGIN:VEVENT
SUMMARY:Australia Mixed-Chinese Taipei Mixed
DESCRIPTION:Mixed: Pool B
LOCATION:  5
DTSTART;TZID=Asia/Tokyo:20240612T160000
DURATION: P60M
GEO:;
END:VEVENT

BEGIN:VEVENT
SUMMARY:Australia Mixed-JPN X Kuru
DESCRIPTION:Mixed: Pool B
LOCATION:  1
DTSTART;TZID=Asia/Tokyo:20240613T100000
DURATION: P60M
GEO:;
END:VEVENT

BEGIN:VEVENT
SUMMARY:Australia Mixed-NZL X Full Sand
DESCRIPTION:Mixed: Pool B
LOCATION:  1
DTSTART;TZID=Asia/Tokyo:20240613T130000
DURATION: P60M
GEO:;
END:VEVENT

BEGIN:VEVENT
SUMMARY:Japan Mixed-Australia Mixed
DESCRIPTION:Mixed: Pool B
LOCATION:  4
DTSTART;TZID=Asia/Tokyo:20240613T150000
DURATION: P60M
GEO:;
END:VEVENT

BEGIN:VEVENT
SUMMARY:Australia Mixed-Guam Mixed
DESCRIPTION:Mixed: Pool B
LOCATION:  4
DTSTART;TZID=Asia/Tokyo:20240614T090000
DURATION: P60M
GEO:;
END:VEVENT

BEGIN:VEVENT
SUMMARY:Australia Mixed-JPN X SubRosa
DESCRIPTION:Mixed: Pool B
LOCATION:  5
DTSTART;TZID=Asia/Tokyo:20240614T110000
DURATION: P60M
GEO:;
END:VEVENT

BEGIN:VEVENT
SUMMARY:Australia Mixed-CHN X Team BT
DESCRIPTION:Mixed: Pool B
LOCATION:  6
DTSTART;TZID=Asia/Tokyo:20240614T130000
DURATION: P60M
GEO:;
END:VEVENT

BEGIN:VEVENT
SUMMARY:Australia Mixed-Singapore Mixed
DESCRIPTION:Mixed: Playoff (1-8)
LOCATION:  4
DTSTART;TZID=Asia/Tokyo:20240615T100000
DURATION: P60M
GEO:;
END:VEVENT

BEGIN:VEVENT
SUMMARY:PHI X Pilipinas Pirates-Australia Mixed
DESCRIPTION:Mixed: Playoff (1-8) Semifinals
LOCATION:  3
DTSTART;TZID=Asia/Tokyo:20240615T120000
DURATION: P60M
GEO:;
END:VEVENT

BEGIN:VEVENT
SUMMARY:Australia Mixed-Japan Mixed
DESCRIPTION:Mixed: Playoff (1-8) Finals
LOCATION:  3
DTSTART;TZID=Asia/Tokyo:20240616T130000
DURATION: P60M
GEO:;
END:VEVENT

END:VCALENDAR
