BEGIN:VCALENDAR
VERSION:2.0
PRODID: Ultiorganizer


BEGIN:VEVENT
SUMMARY:Singapore Open-SGP Club Open
DESCRIPTION:Open: Pool A
LOCATION:  4
DTSTART;TZID=Asia/Tokyo:20240612T140000
DURATION: P60M
GEO:;
END:VEVENT

BEGIN:VEVENT
SUMMARY:Japan Open-Singapore Open
DESCRIPTION:Open: Pool A
LOCATION:  6
DTSTART;TZID=Asia/Tokyo:20240613T090000
DURATION: P60M
GEO:;
END:VEVENT

BEGIN:VEVENT
SUMMARY:Singapore Open-Korea Open
DESCRIPTION:Open: Pool A
LOCATION:  6
DTSTART;TZID=Asia/Tokyo:20240613T110000
DURATION: P60M
GEO:;
END:VEVENT

BEGIN:VEVENT
SUMMARY:Australia Open-Singapore Open
DESCRIPTION:Open: Pool A
LOCATION:  3
DTSTART;TZID=Asia/Tokyo:20240613T170000
DURATION: P60M
GEO:;
END:VEVENT

BEGIN:VEVENT
SUMMARY:Philippines Open-Singapore Open
DESCRIPTION:Open: Pool A
LOCATION:  7
DTSTART;TZID=Asia/Tokyo:20240614T090000
DURATION: P60M
GEO:;
END:VEVENT

BEGIN:VEVENT
SUMMARY:Singapore Open-Korea Open
DESCRIPTION:Open: Pool C
LOCATION:  8
DTSTART;TZID=Asia/Tokyo:20240614T130000
DURATION: P60M
GEO:;
END:VEVENT

BEGIN:VEVENT
SUMMARY:Singapore Open-SGP Club Open
DESCRIPTION:Open: Pool C
LOCATION:  8
DTSTART;TZID=Asia/Tokyo:20240614T150000
DURATION: P60M
GEO:;
END:VEVENT

BEGIN:VEVENT
SUMMARY:Philippines Open-Singapore Open
DESCRIPTION:Open: Playoff (1-4)
LOCATION:  3
DTSTART;TZID=Asia/Tokyo:20240615T150000
DURATION: P60M
GEO:;
END:VEVENT

BEGIN:VEVENT
SUMMARY:Singapore Open-Australia Open
DESCRIPTION:Open: Playoff (1-4) Finals
LOCATION:  4
DTSTART;TZID=Asia/Tokyo:20240615T170000
DURATION: P60M
GEO:;
END:VEVENT

END:VCALENDAR
