BEGIN:VCALENDAR
VERSION:2.0
PRODID: Ultiorganizer


BEGIN:VEVENT
SUMMARY:Singapore Open-SGP Club Open
DESCRIPTION:Open: Pool A
LOCATION:  4
DTSTART;TZID=Asia/Tokyo:20240612T140000
DURATION: P60M
GEO:;
END:VEVENT

BEGIN:VEVENT
SUMMARY:Australia Open-SGP Club Open
DESCRIPTION:Open: Pool A
LOCATION:  5
DTSTART;TZID=Asia/Tokyo:20240613T100000
DURATION: P60M
GEO:;
END:VEVENT

BEGIN:VEVENT
SUMMARY:Philippines Open-SGP Club Open
DESCRIPTION:Open: Pool A
LOCATION:  5
DTSTART;TZID=Asia/Tokyo:20240613T120000
DURATION: P60M
GEO:;
END:VEVENT

BEGIN:VEVENT
SUMMARY:Korea Open-SGP Club Open
DESCRIPTION:Open: Pool A
LOCATION:  2
DTSTART;TZID=Asia/Tokyo:20240613T170000
DURATION: P60M
GEO:;
END:VEVENT

BEGIN:VEVENT
SUMMARY:Japan Open-SGP Club Open
DESCRIPTION:Open: Pool A
LOCATION:  8
DTSTART;TZID=Asia/Tokyo:20240614T090000
DURATION: P60M
GEO:;
END:VEVENT

BEGIN:VEVENT
SUMMARY:SGP Club Open-Korea Open
DESCRIPTION:Open: Pool C
LOCATION:  8
DTSTART;TZID=Asia/Tokyo:20240614T110000
DURATION: P60M
GEO:;
END:VEVENT

BEGIN:VEVENT
SUMMARY:Singapore Open-SGP Club Open
DESCRIPTION:Open: Pool C
LOCATION:  8
DTSTART;TZID=Asia/Tokyo:20240614T150000
DURATION: P60M
GEO:;
END:VEVENT

BEGIN:VEVENT
SUMMARY:SGP Club Open-Korea Open
DESCRIPTION:Open: Playoff (5-6)
LOCATION:  4
DTSTART;TZID=Asia/Tokyo:20240615T110000
DURATION: P60M
GEO:;
END:VEVENT

END:VCALENDAR
