BEGIN:VCALENDAR
VERSION:2.0
PRODID: Ultiorganizer


BEGIN:VEVENT
SUMMARY:Australia Mixed-Chinese Taipei Mixed
DESCRIPTION:Mixed: Pool B
LOCATION:  5
DTSTART;TZID=Asia/Tokyo:20240612T160000
DURATION: P60M
GEO:;
END:VEVENT

BEGIN:VEVENT
SUMMARY:NZL X Full Sand-Chinese Taipei Mixed
DESCRIPTION:Mixed: Pool B
LOCATION:  4
DTSTART;TZID=Asia/Tokyo:20240613T100000
DURATION: P60M
GEO:;
END:VEVENT

BEGIN:VEVENT
SUMMARY:Chinese Taipei Mixed-JPN X SubRosa
DESCRIPTION:Mixed: Pool B
LOCATION:  5
DTSTART;TZID=Asia/Tokyo:20240613T130000
DURATION: P60M
GEO:;
END:VEVENT

BEGIN:VEVENT
SUMMARY:Chinese Taipei Mixed-JPN X Kuru
DESCRIPTION:Mixed: Pool B
LOCATION:  1
DTSTART;TZID=Asia/Tokyo:20240613T150000
DURATION: P60M
GEO:;
END:VEVENT

BEGIN:VEVENT
SUMMARY:Chinese Taipei Mixed-CHN X Team BT
DESCRIPTION:Mixed: Pool B
LOCATION:  3
DTSTART;TZID=Asia/Tokyo:20240614T090000
DURATION: P60M
GEO:;
END:VEVENT

BEGIN:VEVENT
SUMMARY:Guam Mixed-Chinese Taipei Mixed
DESCRIPTION:Mixed: Pool B
LOCATION:  2
DTSTART;TZID=Asia/Tokyo:20240614T110000
DURATION: P60M
GEO:;
END:VEVENT

BEGIN:VEVENT
SUMMARY:Japan Mixed-Chinese Taipei Mixed
DESCRIPTION:Mixed: Pool B
LOCATION:  1
DTSTART;TZID=Asia/Tokyo:20240614T130000
DURATION: P60M
GEO:;
END:VEVENT

BEGIN:VEVENT
SUMMARY:PHI X Pilipinas Pirates-Chinese Taipei Mixed
DESCRIPTION:Mixed: Playoff (1-8)
LOCATION:  1
DTSTART;TZID=Asia/Tokyo:20240615T100000
DURATION: P60M
GEO:;
END:VEVENT

BEGIN:VEVENT
SUMMARY:Chinese Taipei Mixed-Singapore Mixed
DESCRIPTION:Mixed: Playoff (1-8) Semifinals
LOCATION:  1
DTSTART;TZID=Asia/Tokyo:20240615T120000
DURATION: P60M
GEO:;
END:VEVENT

BEGIN:VEVENT
SUMMARY:Chinese Taipei Mixed-JPN X IKU!
DESCRIPTION:Mixed: Playoff (1-8) Finals
LOCATION:  2
DTSTART;TZID=Asia/Tokyo:20240615T150000
DURATION: P60M
GEO:;
END:VEVENT

END:VCALENDAR
