BEGIN:VCALENDAR
VERSION:2.0
PRODID: Ultiorganizer


BEGIN:VEVENT
SUMMARY:Australia Master Mixed-CHN MX Naja Master
DESCRIPTION:Master Mixed: Pool A
LOCATION:  5
DTSTART;TZID=Asia/Tokyo:20240612T150000
DURATION: P60M
GEO:;
END:VEVENT

BEGIN:VEVENT
SUMMARY:Australia Master Mixed-Guam Master Mixed
DESCRIPTION:Master Mixed: Pool A
LOCATION:  7
DTSTART;TZID=Asia/Tokyo:20240613T090000
DURATION: P60M
GEO:;
END:VEVENT

BEGIN:VEVENT
SUMMARY:Australia Master Mixed-Singapore Master Mixed #2
DESCRIPTION:Master Mixed: Pool A
LOCATION:  8
DTSTART;TZID=Asia/Tokyo:20240613T110000
DURATION: P60M
GEO:;
END:VEVENT

BEGIN:VEVENT
SUMMARY:Australia Master Mixed-Singapore Master Mixed #1
DESCRIPTION:Master Mixed: Pool A
LOCATION:  8
DTSTART;TZID=Asia/Tokyo:20240613T130000
DURATION: P60M
GEO:;
END:VEVENT

BEGIN:VEVENT
SUMMARY:JPN MX Re-roar-Australia Master Mixed
DESCRIPTION:Master Mixed: Pool A
LOCATION:  4
DTSTART;TZID=Asia/Tokyo:20240614T110000
DURATION: P60M
GEO:;
END:VEVENT

BEGIN:VEVENT
SUMMARY:Australia Master Mixed-India Master Mixed
DESCRIPTION:Master Mixed: Pool A
LOCATION:  2
DTSTART;TZID=Asia/Tokyo:20240614T140000
DURATION: P60M
GEO:;
END:VEVENT

BEGIN:VEVENT
SUMMARY:Australia Master Mixed-CHN MX CUUP
DESCRIPTION:Master Mixed: Pool A
LOCATION:  2
DTSTART;TZID=Asia/Tokyo:20240614T160000
DURATION: P60M
GEO:;
END:VEVENT

BEGIN:VEVENT
SUMMARY:Australia Master Mixed-Guam Master Mixed
DESCRIPTION:Master Mixed: Playoff (1-8)
LOCATION:  1
DTSTART;TZID=Asia/Tokyo:20240615T090000
DURATION: P60M
GEO:;
END:VEVENT

BEGIN:VEVENT
SUMMARY:Australia Master Mixed-Singapore Master Mixed #1
DESCRIPTION:Master Mixed: Playoff (1-8) Semifinals
LOCATION:  3
DTSTART;TZID=Asia/Tokyo:20240615T110000
DURATION: P60M
GEO:;
END:VEVENT

BEGIN:VEVENT
SUMMARY:Australia Master Mixed-JPN MX Re-roar
DESCRIPTION:Master Mixed: Playoff (1-8) Finals
LOCATION:  4
DTSTART;TZID=Asia/Tokyo:20240616T103000
DURATION: P60M
GEO:;
END:VEVENT

END:VCALENDAR
