BEGIN:VCALENDAR
VERSION:2.0
PRODID: Ultiorganizer


BEGIN:VEVENT
SUMMARY:Philippines-Alliance
DESCRIPTION:Mixed: Pool D
LOCATION:  4
DTSTART;TZID=Asia/Tokyo:20250903T150000
DURATION: P120M
GEO:;
END:VEVENT

BEGIN:VEVENT
SUMMARY:Chinese Taipei-Guam
DESCRIPTION:Mixed: Pool D
LOCATION:  5
DTSTART;TZID=Asia/Tokyo:20250903T150000
DURATION: P120M
GEO:;
END:VEVENT

BEGIN:VEVENT
SUMMARY:IKU!-Sambo Rice
DESCRIPTION:Mixed: Pool D
LOCATION:  6
DTSTART;TZID=Asia/Tokyo:20250903T150000
DURATION: P120M
GEO:;
END:VEVENT

BEGIN:VEVENT
SUMMARY:Chinese Taipei-Alliance
DESCRIPTION:Mixed: Pool D
LOCATION:  11
DTSTART;TZID=Asia/Tokyo:20250904T110000
DURATION: P120M
GEO:;
END:VEVENT

BEGIN:VEVENT
SUMMARY:IKU!-Guam
DESCRIPTION:Mixed: Pool D
LOCATION:  12
DTSTART;TZID=Asia/Tokyo:20250904T110000
DURATION: P120M
GEO:;
END:VEVENT

BEGIN:VEVENT
SUMMARY:Philippines-Sambo Rice
DESCRIPTION:Mixed: Pool D
LOCATION:  13
DTSTART;TZID=Asia/Tokyo:20250904T110000
DURATION: P120M
GEO:;
END:VEVENT

BEGIN:VEVENT
SUMMARY:Philippines-IKU!
DESCRIPTION:Mixed: Pool D
LOCATION:  11
DTSTART;TZID=Asia/Tokyo:20250904T150000
DURATION: P120M
GEO:;
END:VEVENT

BEGIN:VEVENT
SUMMARY:Alliance-Guam
DESCRIPTION:Mixed: Pool D
LOCATION:  12
DTSTART;TZID=Asia/Tokyo:20250904T150000
DURATION: P120M
GEO:;
END:VEVENT

BEGIN:VEVENT
SUMMARY:Chinese Taipei-Sambo Rice
DESCRIPTION:Mixed: Pool D
LOCATION:  13
DTSTART;TZID=Asia/Tokyo:20250904T150000
DURATION: P120M
GEO:;
END:VEVENT

BEGIN:VEVENT
SUMMARY:Philippines-Guam
DESCRIPTION:Mixed: Pool D
LOCATION:  1
DTSTART;TZID=Asia/Tokyo:20250905T110000
DURATION: P120M
GEO:;
END:VEVENT

BEGIN:VEVENT
SUMMARY:Chinese Taipei-IKU!
DESCRIPTION:Mixed: Pool D
LOCATION:  2
DTSTART;TZID=Asia/Tokyo:20250905T110000
DURATION: P120M
GEO:;
END:VEVENT

BEGIN:VEVENT
SUMMARY:Alliance-Sambo Rice
DESCRIPTION:Mixed: Pool D
LOCATION:  3
DTSTART;TZID=Asia/Tokyo:20250905T110000
DURATION: P120M
GEO:;
END:VEVENT

BEGIN:VEVENT
SUMMARY:IKU!-Alliance
DESCRIPTION:Mixed: Pool D
LOCATION:  2
DTSTART;TZID=Asia/Tokyo:20250905T150000
DURATION: P120M
GEO:;
END:VEVENT

BEGIN:VEVENT
SUMMARY:Philippines-Chinese Taipei
DESCRIPTION:Mixed: Pool D
LOCATION:  3
DTSTART;TZID=Asia/Tokyo:20250905T150000
DURATION: P120M
GEO:;
END:VEVENT

BEGIN:VEVENT
SUMMARY:Guam-Sambo Rice
DESCRIPTION:Mixed: Pool D
LOCATION:  6
DTSTART;TZID=Asia/Tokyo:20250905T150000
DURATION: P120M
GEO:;
END:VEVENT

END:VCALENDAR
