BEGIN:VCALENDAR
VERSION:2.0
PRODID: Ultiorganizer


BEGIN:VEVENT
SUMMARY:MUD-Huck
DESCRIPTION:Women's: Pre-Semis
LOCATION:  2
DTSTART;TZID=Asia/Tokyo:20250906T110000
DURATION: P120M
GEO:;
END:VEVENT

BEGIN:VEVENT
SUMMARY:Orca-Āwha
DESCRIPTION:Women's: Pre-Semis
LOCATION:  3
DTSTART;TZID=Asia/Tokyo:20250906T110000
DURATION: P120M
GEO:;
END:VEVENT

END:VCALENDAR
