BEGIN:VCALENDAR
VERSION:2.0
PRODID: Ultiorganizer


BEGIN:VEVENT
SUMMARY:Kuwait-Guam
DESCRIPTION:Mixed: Pool E
LOCATION:  6
DTSTART;TZID=Asia/Tokyo:20250906T090000
DURATION: P120M
GEO:;
END:VEVENT

BEGIN:VEVENT
SUMMARY:Kappatai-Guam
DESCRIPTION:Mixed: Pool E
LOCATION:  6
DTSTART;TZID=Asia/Tokyo:20250906T120000
DURATION: P120M
GEO:;
END:VEVENT

BEGIN:VEVENT
SUMMARY:Kuwait-Kappatai
DESCRIPTION:Mixed: Pool E
LOCATION:  6
DTSTART;TZID=Asia/Tokyo:20250906T150000
DURATION: P120M
GEO:;
END:VEVENT

END:VCALENDAR
