BEGIN:VCALENDAR
VERSION:2.0
PRODID: Ultiorganizer


BEGIN:VEVENT
SUMMARY:Under24-Hong Kong, China
DESCRIPTION:Mixed: Pool F
LOCATION:  16
DTSTART;TZID=Asia/Tokyo:20250906T090000
DURATION: P120M
GEO:;
END:VEVENT

BEGIN:VEVENT
SUMMARY:Sambo Rice-Hong Kong, China
DESCRIPTION:Mixed: Pool F
LOCATION:  16
DTSTART;TZID=Asia/Tokyo:20250906T120000
DURATION: P120M
GEO:;
END:VEVENT

BEGIN:VEVENT
SUMMARY:Under24-Sambo Rice
DESCRIPTION:Mixed: Pool F
LOCATION:  16
DTSTART;TZID=Asia/Tokyo:20250906T150000
DURATION: P120M
GEO:;
END:VEVENT

END:VCALENDAR
