BEGIN:VCALENDAR
VERSION:2.0
PRODID: Ultiorganizer


BEGIN:VEVENT
SUMMARY:Philippines-Nomadic Tribe
DESCRIPTION:Open: Pool A
LOCATION:  3
DTSTART;TZID=Asia/Tokyo:20250903T130000
DURATION: P120M
GEO:;
END:VEVENT

BEGIN:VEVENT
SUMMARY:Ellipsis-Twig
DESCRIPTION:Open: Pool B
LOCATION:  2
DTSTART;TZID=Asia/Tokyo:20250903T130000
DURATION: P120M
GEO:;
END:VEVENT

BEGIN:VEVENT
SUMMARY:Buzz Bullets-Sunder
DESCRIPTION:Open: Pool C
LOCATION:  2
DTSTART;TZID=Asia/Tokyo:20250903T150000
DURATION: P120M
GEO:;
END:VEVENT

BEGIN:VEVENT
SUMMARY:Disc Knights-Rascals
DESCRIPTION:Open: Pool D
LOCATION:  9
DTSTART;TZID=Asia/Tokyo:20250903T150000
DURATION: P120M
GEO:;
END:VEVENT

BEGIN:VEVENT
SUMMARY:Gaja-Hot Chilly
DESCRIPTION:Open: Pool D
LOCATION:  10
DTSTART;TZID=Asia/Tokyo:20250903T150000
DURATION: P120M
GEO:;
END:VEVENT

BEGIN:VEVENT
SUMMARY:Ellipsis-Huck
DESCRIPTION:Women's: Pool A
LOCATION:  7
DTSTART;TZID=Asia/Tokyo:20250903T130000
DURATION: P120M
GEO:;
END:VEVENT

BEGIN:VEVENT
SUMMARY:Philippines-Orca
DESCRIPTION:Women's: Pool A
LOCATION:  8
DTSTART;TZID=Asia/Tokyo:20250903T130000
DURATION: P120M
GEO:;
END:VEVENT

BEGIN:VEVENT
SUMMARY:Hong Kong, China-India
DESCRIPTION:Women's: Pool A
LOCATION:  8
DTSTART;TZID=Asia/Tokyo:20250903T150000
DURATION: P120M
GEO:;
END:VEVENT

BEGIN:VEVENT
SUMMARY:MUD-Tokyo Mavericks
DESCRIPTION:Women's: Pool B
LOCATION:  1
DTSTART;TZID=Asia/Tokyo:20250903T130000
DURATION: P120M
GEO:;
END:VEVENT

BEGIN:VEVENT
SUMMARY:Singapore-Āwha
DESCRIPTION:Women's: Pool B
LOCATION:  1
DTSTART;TZID=Asia/Tokyo:20250903T150000
DURATION: P120M
GEO:;
END:VEVENT

BEGIN:VEVENT
SUMMARY:Hibiscus-Swampy Barg
DESCRIPTION:Women's: Pool B
LOCATION:  3
DTSTART;TZID=Asia/Tokyo:20250903T150000
DURATION: P120M
GEO:;
END:VEVENT

BEGIN:VEVENT
SUMMARY:Wollongong Krank-SuperNova
DESCRIPTION:Mixed: Pool A
LOCATION:  11
DTSTART;TZID=Asia/Tokyo:20250903T150000
DURATION: P120M
GEO:;
END:VEVENT

BEGIN:VEVENT
SUMMARY:Akala-Kuwait
DESCRIPTION:Mixed: Pool A
LOCATION:  12
DTSTART;TZID=Asia/Tokyo:20250903T150000
DURATION: P120M
GEO:;
END:VEVENT

BEGIN:VEVENT
SUMMARY:Singapore-Odinz
DESCRIPTION:Mixed: Pool B
LOCATION:  4
DTSTART;TZID=Asia/Tokyo:20250903T130000
DURATION: P120M
GEO:;
END:VEVENT

BEGIN:VEVENT
SUMMARY:China PR-Under24
DESCRIPTION:Mixed: Pool B
LOCATION:  5
DTSTART;TZID=Asia/Tokyo:20250903T130000
DURATION: P120M
GEO:;
END:VEVENT

BEGIN:VEVENT
SUMMARY:Kappatai-Hong Kong, China
DESCRIPTION:Mixed: Pool C
LOCATION:  11
DTSTART;TZID=Asia/Tokyo:20250903T130000
DURATION: P120M
GEO:;
END:VEVENT

BEGIN:VEVENT
SUMMARY:Freakshow-Gona
DESCRIPTION:Mixed: Pool C
LOCATION:  12
DTSTART;TZID=Asia/Tokyo:20250903T130000
DURATION: P120M
GEO:;
END:VEVENT

BEGIN:VEVENT
SUMMARY:Manly-Whisby Nation
DESCRIPTION:Mixed: Pool C
LOCATION:  13
DTSTART;TZID=Asia/Tokyo:20250903T130000
DURATION: P120M
GEO:;
END:VEVENT

BEGIN:VEVENT
SUMMARY:Philippines-Alliance
DESCRIPTION:Mixed: Pool D
LOCATION:  4
DTSTART;TZID=Asia/Tokyo:20250903T150000
DURATION: P120M
GEO:;
END:VEVENT

BEGIN:VEVENT
SUMMARY:Chinese Taipei-Guam
DESCRIPTION:Mixed: Pool D
LOCATION:  5
DTSTART;TZID=Asia/Tokyo:20250903T150000
DURATION: P120M
GEO:;
END:VEVENT

BEGIN:VEVENT
SUMMARY:IKU!-Sambo Rice
DESCRIPTION:Mixed: Pool D
LOCATION:  6
DTSTART;TZID=Asia/Tokyo:20250903T150000
DURATION: P120M
GEO:;
END:VEVENT

BEGIN:VEVENT
SUMMARY:Singapore-Re-roar
DESCRIPTION:Master Mixed: Pool A
LOCATION:  9
DTSTART;TZID=Asia/Tokyo:20250903T130000
DURATION: P120M
GEO:;
END:VEVENT

BEGIN:VEVENT
SUMMARY:Philippines-Hong Kong, China
DESCRIPTION:Master Mixed: Pool A
LOCATION:  10
DTSTART;TZID=Asia/Tokyo:20250903T130000
DURATION: P120M
GEO:;
END:VEVENT

BEGIN:VEVENT
SUMMARY:Hong Kong, China-Nomadic Tribe
DESCRIPTION:Open: Pool A
LOCATION:  9
DTSTART;TZID=Asia/Tokyo:20250904T090000
DURATION: P120M
GEO:;
END:VEVENT

BEGIN:VEVENT
SUMMARY:Philippines-Hong Kong, China
DESCRIPTION:Open: Pool A
LOCATION:  9
DTSTART;TZID=Asia/Tokyo:20250904T130000
DURATION: P120M
GEO:;
END:VEVENT

BEGIN:VEVENT
SUMMARY:Hornbills-Twig
DESCRIPTION:Open: Pool B
LOCATION:  10
DTSTART;TZID=Asia/Tokyo:20250904T090000
DURATION: P120M
GEO:;
END:VEVENT

BEGIN:VEVENT
SUMMARY:Ellipsis-Hornbills
DESCRIPTION:Open: Pool B
LOCATION:  10
DTSTART;TZID=Asia/Tokyo:20250904T130000
DURATION: P120M
GEO:;
END:VEVENT

BEGIN:VEVENT
SUMMARY:India-Sunder
DESCRIPTION:Open: Pool C
LOCATION:  9
DTSTART;TZID=Asia/Tokyo:20250904T110000
DURATION: P120M
GEO:;
END:VEVENT

BEGIN:VEVENT
SUMMARY:Buzz Bullets-India
DESCRIPTION:Open: Pool C
LOCATION:  9
DTSTART;TZID=Asia/Tokyo:20250904T150000
DURATION: P120M
GEO:;
END:VEVENT

BEGIN:VEVENT
SUMMARY:Disc Knights-Hot Chilly
DESCRIPTION:Open: Pool D
LOCATION:  1
DTSTART;TZID=Asia/Tokyo:20250904T110000
DURATION: P120M
GEO:;
END:VEVENT

BEGIN:VEVENT
SUMMARY:Gaja-Rascals
DESCRIPTION:Open: Pool D
LOCATION:  2
DTSTART;TZID=Asia/Tokyo:20250904T110000
DURATION: P120M
GEO:;
END:VEVENT

BEGIN:VEVENT
SUMMARY:Disc Knights-Gaja
DESCRIPTION:Open: Pool D
LOCATION:  1
DTSTART;TZID=Asia/Tokyo:20250904T150000
DURATION: P120M
GEO:;
END:VEVENT

BEGIN:VEVENT
SUMMARY:Rascals-Hot Chilly
DESCRIPTION:Open: Pool D
LOCATION:  2
DTSTART;TZID=Asia/Tokyo:20250904T150000
DURATION: P120M
GEO:;
END:VEVENT

BEGIN:VEVENT
SUMMARY:Philippines-Huck
DESCRIPTION:Women's: Pool A
LOCATION:  4
DTSTART;TZID=Asia/Tokyo:20250904T090000
DURATION: P120M
GEO:;
END:VEVENT

BEGIN:VEVENT
SUMMARY:Hong Kong, China-Orca
DESCRIPTION:Women's: Pool A
LOCATION:  5
DTSTART;TZID=Asia/Tokyo:20250904T090000
DURATION: P120M
GEO:;
END:VEVENT

BEGIN:VEVENT
SUMMARY:Ellipsis-India
DESCRIPTION:Women's: Pool A
LOCATION:  6
DTSTART;TZID=Asia/Tokyo:20250904T090000
DURATION: P120M
GEO:;
END:VEVENT

BEGIN:VEVENT
SUMMARY:Ellipsis-Hong Kong, China
DESCRIPTION:Women's: Pool A
LOCATION:  4
DTSTART;TZID=Asia/Tokyo:20250904T130000
DURATION: P120M
GEO:;
END:VEVENT

BEGIN:VEVENT
SUMMARY:Huck-Orca
DESCRIPTION:Women's: Pool A
LOCATION:  5
DTSTART;TZID=Asia/Tokyo:20250904T130000
DURATION: P120M
GEO:;
END:VEVENT

BEGIN:VEVENT
SUMMARY:Philippines-India
DESCRIPTION:Women's: Pool A
LOCATION:  6
DTSTART;TZID=Asia/Tokyo:20250904T130000
DURATION: P120M
GEO:;
END:VEVENT

BEGIN:VEVENT
SUMMARY:Singapore-Tokyo Mavericks
DESCRIPTION:Women's: Pool B
LOCATION:  4
DTSTART;TZID=Asia/Tokyo:20250904T110000
DURATION: P120M
GEO:;
END:VEVENT

BEGIN:VEVENT
SUMMARY:Hibiscus-Āwha
DESCRIPTION:Women's: Pool B
LOCATION:  5
DTSTART;TZID=Asia/Tokyo:20250904T110000
DURATION: P120M
GEO:;
END:VEVENT

BEGIN:VEVENT
SUMMARY:MUD-Swampy Barg
DESCRIPTION:Women's: Pool B
LOCATION:  6
DTSTART;TZID=Asia/Tokyo:20250904T110000
DURATION: P120M
GEO:;
END:VEVENT

BEGIN:VEVENT
SUMMARY:MUD-Hibiscus
DESCRIPTION:Women's: Pool B
LOCATION:  4
DTSTART;TZID=Asia/Tokyo:20250904T150000
DURATION: P120M
GEO:;
END:VEVENT

BEGIN:VEVENT
SUMMARY:Tokyo Mavericks-Āwha
DESCRIPTION:Women's: Pool B
LOCATION:  5
DTSTART;TZID=Asia/Tokyo:20250904T150000
DURATION: P120M
GEO:;
END:VEVENT

BEGIN:VEVENT
SUMMARY:Singapore-Swampy Barg
DESCRIPTION:Women's: Pool B
LOCATION:  6
DTSTART;TZID=Asia/Tokyo:20250904T150000
DURATION: P120M
GEO:;
END:VEVENT

BEGIN:VEVENT
SUMMARY:Akala-SuperNova
DESCRIPTION:Mixed: Pool A
LOCATION:  14
DTSTART;TZID=Asia/Tokyo:20250904T110000
DURATION: P120M
GEO:;
END:VEVENT

BEGIN:VEVENT
SUMMARY:Tapir-Kuwait
DESCRIPTION:Mixed: Pool A
LOCATION:  15
DTSTART;TZID=Asia/Tokyo:20250904T110000
DURATION: P120M
GEO:;
END:VEVENT

BEGIN:VEVENT
SUMMARY:Wollongong Krank-Tapir
DESCRIPTION:Mixed: Pool A
LOCATION:  14
DTSTART;TZID=Asia/Tokyo:20250904T150000
DURATION: P120M
GEO:;
END:VEVENT

BEGIN:VEVENT
SUMMARY:SuperNova-Kuwait
DESCRIPTION:Mixed: Pool A
LOCATION:  15
DTSTART;TZID=Asia/Tokyo:20250904T150000
DURATION: P120M
GEO:;
END:VEVENT

BEGIN:VEVENT
SUMMARY:Brisbanites-Under24
DESCRIPTION:Mixed: Pool B
LOCATION:  12
DTSTART;TZID=Asia/Tokyo:20250904T090000
DURATION: P120M
GEO:;
END:VEVENT

BEGIN:VEVENT
SUMMARY:China PR-Odinz
DESCRIPTION:Mixed: Pool B
LOCATION:  13
DTSTART;TZID=Asia/Tokyo:20250904T090000
DURATION: P120M
GEO:;
END:VEVENT

BEGIN:VEVENT
SUMMARY:Odinz-Under24
DESCRIPTION:Mixed: Pool B
LOCATION:  12
DTSTART;TZID=Asia/Tokyo:20250904T130000
DURATION: P120M
GEO:;
END:VEVENT

BEGIN:VEVENT
SUMMARY:Singapore-Brisbanites
DESCRIPTION:Mixed: Pool B
LOCATION:  13
DTSTART;TZID=Asia/Tokyo:20250904T130000
DURATION: P120M
GEO:;
END:VEVENT

BEGIN:VEVENT
SUMMARY:Freakshow-Hong Kong, China
DESCRIPTION:Mixed: Pool C
LOCATION:  1
DTSTART;TZID=Asia/Tokyo:20250904T090000
DURATION: P120M
GEO:;
END:VEVENT

BEGIN:VEVENT
SUMMARY:Manly-Gona
DESCRIPTION:Mixed: Pool C
LOCATION:  2
DTSTART;TZID=Asia/Tokyo:20250904T090000
DURATION: P120M
GEO:;
END:VEVENT

BEGIN:VEVENT
SUMMARY:Kappatai-Whisby Nation
DESCRIPTION:Mixed: Pool C
LOCATION:  3
DTSTART;TZID=Asia/Tokyo:20250904T090000
DURATION: P120M
GEO:;
END:VEVENT

BEGIN:VEVENT
SUMMARY:Kappatai-Manly
DESCRIPTION:Mixed: Pool C
LOCATION:  1
DTSTART;TZID=Asia/Tokyo:20250904T130000
DURATION: P120M
GEO:;
END:VEVENT

BEGIN:VEVENT
SUMMARY:Freakshow-Whisby Nation
DESCRIPTION:Mixed: Pool C
LOCATION:  2
DTSTART;TZID=Asia/Tokyo:20250904T130000
DURATION: P120M
GEO:;
END:VEVENT

BEGIN:VEVENT
SUMMARY:Hong Kong, China-Gona
DESCRIPTION:Mixed: Pool C
LOCATION:  3
DTSTART;TZID=Asia/Tokyo:20250904T130000
DURATION: P120M
GEO:;
END:VEVENT

BEGIN:VEVENT
SUMMARY:Chinese Taipei-Alliance
DESCRIPTION:Mixed: Pool D
LOCATION:  11
DTSTART;TZID=Asia/Tokyo:20250904T110000
DURATION: P120M
GEO:;
END:VEVENT

BEGIN:VEVENT
SUMMARY:IKU!-Guam
DESCRIPTION:Mixed: Pool D
LOCATION:  12
DTSTART;TZID=Asia/Tokyo:20250904T110000
DURATION: P120M
GEO:;
END:VEVENT

BEGIN:VEVENT
SUMMARY:Philippines-Sambo Rice
DESCRIPTION:Mixed: Pool D
LOCATION:  13
DTSTART;TZID=Asia/Tokyo:20250904T110000
DURATION: P120M
GEO:;
END:VEVENT

BEGIN:VEVENT
SUMMARY:Philippines-IKU!
DESCRIPTION:Mixed: Pool D
LOCATION:  11
DTSTART;TZID=Asia/Tokyo:20250904T150000
DURATION: P120M
GEO:;
END:VEVENT

BEGIN:VEVENT
SUMMARY:Alliance-Guam
DESCRIPTION:Mixed: Pool D
LOCATION:  12
DTSTART;TZID=Asia/Tokyo:20250904T150000
DURATION: P120M
GEO:;
END:VEVENT

BEGIN:VEVENT
SUMMARY:Chinese Taipei-Sambo Rice
DESCRIPTION:Mixed: Pool D
LOCATION:  13
DTSTART;TZID=Asia/Tokyo:20250904T150000
DURATION: P120M
GEO:;
END:VEVENT

BEGIN:VEVENT
SUMMARY:Singapore-Hong Kong, China
DESCRIPTION:Master Mixed: Pool A
LOCATION:  14
DTSTART;TZID=Asia/Tokyo:20250904T090000
DURATION: P120M
GEO:;
END:VEVENT

BEGIN:VEVENT
SUMMARY:Philippines-Re-roar
DESCRIPTION:Master Mixed: Pool A
LOCATION:  15
DTSTART;TZID=Asia/Tokyo:20250904T090000
DURATION: P120M
GEO:;
END:VEVENT

BEGIN:VEVENT
SUMMARY:Singapore-Philippines
DESCRIPTION:Master Mixed: Pool A
LOCATION:  14
DTSTART;TZID=Asia/Tokyo:20250904T130000
DURATION: P120M
GEO:;
END:VEVENT

BEGIN:VEVENT
SUMMARY:Re-roar-Hong Kong, China
DESCRIPTION:Master Mixed: Pool A
LOCATION:  15
DTSTART;TZID=Asia/Tokyo:20250904T130000
DURATION: P120M
GEO:;
END:VEVENT

BEGIN:VEVENT
SUMMARY:Philippines-Hot Chilly
DESCRIPTION:Open: Crossover
LOCATION:  7
DTSTART;TZID=Asia/Tokyo:20250905T090000
DURATION: P120M
GEO:;
END:VEVENT

BEGIN:VEVENT
SUMMARY:Buzz Bullets-Hornbills
DESCRIPTION:Open: Crossover
LOCATION:  8
DTSTART;TZID=Asia/Tokyo:20250905T090000
DURATION: P120M
GEO:;
END:VEVENT

BEGIN:VEVENT
SUMMARY:Twig-India
DESCRIPTION:Open: Crossover
LOCATION:  9
DTSTART;TZID=Asia/Tokyo:20250905T090000
DURATION: P120M
GEO:;
END:VEVENT

BEGIN:VEVENT
SUMMARY:Gaja-Hong Kong, China
DESCRIPTION:Open: Crossover
LOCATION:  10
DTSTART;TZID=Asia/Tokyo:20250905T090000
DURATION: P120M
GEO:;
END:VEVENT

BEGIN:VEVENT
SUMMARY:Nomadic Tribe-Twig
DESCRIPTION:Open: Pool E
LOCATION:  9
DTSTART;TZID=Asia/Tokyo:20250905T130000
DURATION: P120M
GEO:;
END:VEVENT

BEGIN:VEVENT
SUMMARY:Sunder-Gaja
DESCRIPTION:Open: Pool E
LOCATION:  10
DTSTART;TZID=Asia/Tokyo:20250905T130000
DURATION: P120M
GEO:;
END:VEVENT

BEGIN:VEVENT
SUMMARY:Ellipsis-Philippines
DESCRIPTION:Open: Pool F
LOCATION:  7
DTSTART;TZID=Asia/Tokyo:20250905T130000
DURATION: P120M
GEO:;
END:VEVENT

BEGIN:VEVENT
SUMMARY:Rascals-Buzz Bullets
DESCRIPTION:Open: Pool F
LOCATION:  8
DTSTART;TZID=Asia/Tokyo:20250905T130000
DURATION: P120M
GEO:;
END:VEVENT

BEGIN:VEVENT
SUMMARY:Hot Chilly-Hong Kong, China
DESCRIPTION:Open: Pool G (9-13)
LOCATION:  7
DTSTART;TZID=Asia/Tokyo:20250905T150000
DURATION: P120M
GEO:;
END:VEVENT

BEGIN:VEVENT
SUMMARY:India-Disc Knights
DESCRIPTION:Open: Pool G (9-13)
LOCATION:  8
DTSTART;TZID=Asia/Tokyo:20250905T150000
DURATION: P120M
GEO:;
END:VEVENT

BEGIN:VEVENT
SUMMARY:Ellipsis-Orca
DESCRIPTION:Women's: Pool A
LOCATION:  11
DTSTART;TZID=Asia/Tokyo:20250905T090000
DURATION: P120M
GEO:;
END:VEVENT

BEGIN:VEVENT
SUMMARY:Philippines-Hong Kong, China
DESCRIPTION:Women's: Pool A
LOCATION:  12
DTSTART;TZID=Asia/Tokyo:20250905T090000
DURATION: P120M
GEO:;
END:VEVENT

BEGIN:VEVENT
SUMMARY:Huck-India
DESCRIPTION:Women's: Pool A
LOCATION:  14
DTSTART;TZID=Asia/Tokyo:20250905T090000
DURATION: P120M
GEO:;
END:VEVENT

BEGIN:VEVENT
SUMMARY:Hong Kong, China-Huck
DESCRIPTION:Women's: Pool A
LOCATION:  12
DTSTART;TZID=Asia/Tokyo:20250905T130000
DURATION: P120M
GEO:;
END:VEVENT

BEGIN:VEVENT
SUMMARY:Ellipsis-Philippines
DESCRIPTION:Women's: Pool A
LOCATION:  13
DTSTART;TZID=Asia/Tokyo:20250905T130000
DURATION: P120M
GEO:;
END:VEVENT

BEGIN:VEVENT
SUMMARY:Orca-India
DESCRIPTION:Women's: Pool A
LOCATION:  14
DTSTART;TZID=Asia/Tokyo:20250905T130000
DURATION: P120M
GEO:;
END:VEVENT

BEGIN:VEVENT
SUMMARY:MUD-Āwha
DESCRIPTION:Women's: Pool B
LOCATION:  11
DTSTART;TZID=Asia/Tokyo:20250905T110000
DURATION: P120M
GEO:;
END:VEVENT

BEGIN:VEVENT
SUMMARY:Tokyo Mavericks-Swampy Barg
DESCRIPTION:Women's: Pool B
LOCATION:  13
DTSTART;TZID=Asia/Tokyo:20250905T110000
DURATION: P120M
GEO:;
END:VEVENT

BEGIN:VEVENT
SUMMARY:Singapore-Hibiscus
DESCRIPTION:Women's: Pool B
LOCATION:  15
DTSTART;TZID=Asia/Tokyo:20250905T110000
DURATION: P120M
GEO:;
END:VEVENT

BEGIN:VEVENT
SUMMARY:Āwha-Swampy Barg
DESCRIPTION:Women's: Pool B
LOCATION:  13
DTSTART;TZID=Asia/Tokyo:20250905T150000
DURATION: P120M
GEO:;
END:VEVENT

BEGIN:VEVENT
SUMMARY:Hibiscus-Tokyo Mavericks
DESCRIPTION:Women's: Pool B
LOCATION:  15
DTSTART;TZID=Asia/Tokyo:20250905T150000
DURATION: P120M
GEO:;
END:VEVENT

BEGIN:VEVENT
SUMMARY:MUD-Singapore
DESCRIPTION:Women's: Pool B
LOCATION:  16
DTSTART;TZID=Asia/Tokyo:20250905T150000
DURATION: P120M
GEO:;
END:VEVENT

BEGIN:VEVENT
SUMMARY:Wollongong Krank-Kuwait
DESCRIPTION:Mixed: Pool A
LOCATION:  4
DTSTART;TZID=Asia/Tokyo:20250905T110000
DURATION: P120M
GEO:;
END:VEVENT

BEGIN:VEVENT
SUMMARY:Akala-Tapir
DESCRIPTION:Mixed: Pool A
LOCATION:  5
DTSTART;TZID=Asia/Tokyo:20250905T110000
DURATION: P120M
GEO:;
END:VEVENT

BEGIN:VEVENT
SUMMARY:Wollongong Krank-Akala
DESCRIPTION:Mixed: Pool A
LOCATION:  4
DTSTART;TZID=Asia/Tokyo:20250905T150000
DURATION: P120M
GEO:;
END:VEVENT

BEGIN:VEVENT
SUMMARY:Tapir-SuperNova
DESCRIPTION:Mixed: Pool A
LOCATION:  5
DTSTART;TZID=Asia/Tokyo:20250905T150000
DURATION: P120M
GEO:;
END:VEVENT

BEGIN:VEVENT
SUMMARY:Singapore-Under24
DESCRIPTION:Mixed: Pool B
LOCATION:  2
DTSTART;TZID=Asia/Tokyo:20250905T090000
DURATION: P120M
GEO:;
END:VEVENT

BEGIN:VEVENT
SUMMARY:China PR-Brisbanites
DESCRIPTION:Mixed: Pool B
LOCATION:  3
DTSTART;TZID=Asia/Tokyo:20250905T090000
DURATION: P120M
GEO:;
END:VEVENT

BEGIN:VEVENT
SUMMARY:Brisbanites-Odinz
DESCRIPTION:Mixed: Pool B
LOCATION:  2
DTSTART;TZID=Asia/Tokyo:20250905T130000
DURATION: P120M
GEO:;
END:VEVENT

BEGIN:VEVENT
SUMMARY:Singapore-China PR
DESCRIPTION:Mixed: Pool B
LOCATION:  3
DTSTART;TZID=Asia/Tokyo:20250905T130000
DURATION: P120M
GEO:;
END:VEVENT

BEGIN:VEVENT
SUMMARY:Kappatai-Gona
DESCRIPTION:Mixed: Pool C
LOCATION:  4
DTSTART;TZID=Asia/Tokyo:20250905T090000
DURATION: P120M
GEO:;
END:VEVENT

BEGIN:VEVENT
SUMMARY:Freakshow-Manly
DESCRIPTION:Mixed: Pool C
LOCATION:  5
DTSTART;TZID=Asia/Tokyo:20250905T090000
DURATION: P120M
GEO:;
END:VEVENT

BEGIN:VEVENT
SUMMARY:Hong Kong, China-Whisby Nation
DESCRIPTION:Mixed: Pool C
LOCATION:  6
DTSTART;TZID=Asia/Tokyo:20250905T090000
DURATION: P120M
GEO:;
END:VEVENT

BEGIN:VEVENT
SUMMARY:Kappatai-Freakshow
DESCRIPTION:Mixed: Pool C
LOCATION:  4
DTSTART;TZID=Asia/Tokyo:20250905T130000
DURATION: P120M
GEO:;
END:VEVENT

BEGIN:VEVENT
SUMMARY:Manly-Hong Kong, China
DESCRIPTION:Mixed: Pool C
LOCATION:  5
DTSTART;TZID=Asia/Tokyo:20250905T130000
DURATION: P120M
GEO:;
END:VEVENT

BEGIN:VEVENT
SUMMARY:Gona-Whisby Nation
DESCRIPTION:Mixed: Pool C
LOCATION:  6
DTSTART;TZID=Asia/Tokyo:20250905T130000
DURATION: P120M
GEO:;
END:VEVENT

BEGIN:VEVENT
SUMMARY:Philippines-Guam
DESCRIPTION:Mixed: Pool D
LOCATION:  1
DTSTART;TZID=Asia/Tokyo:20250905T110000
DURATION: P120M
GEO:;
END:VEVENT

BEGIN:VEVENT
SUMMARY:Chinese Taipei-IKU!
DESCRIPTION:Mixed: Pool D
LOCATION:  2
DTSTART;TZID=Asia/Tokyo:20250905T110000
DURATION: P120M
GEO:;
END:VEVENT

BEGIN:VEVENT
SUMMARY:Alliance-Sambo Rice
DESCRIPTION:Mixed: Pool D
LOCATION:  3
DTSTART;TZID=Asia/Tokyo:20250905T110000
DURATION: P120M
GEO:;
END:VEVENT

BEGIN:VEVENT
SUMMARY:IKU!-Alliance
DESCRIPTION:Mixed: Pool D
LOCATION:  2
DTSTART;TZID=Asia/Tokyo:20250905T150000
DURATION: P120M
GEO:;
END:VEVENT

BEGIN:VEVENT
SUMMARY:Philippines-Chinese Taipei
DESCRIPTION:Mixed: Pool D
LOCATION:  3
DTSTART;TZID=Asia/Tokyo:20250905T150000
DURATION: P120M
GEO:;
END:VEVENT

BEGIN:VEVENT
SUMMARY:Guam-Sambo Rice
DESCRIPTION:Mixed: Pool D
LOCATION:  6
DTSTART;TZID=Asia/Tokyo:20250905T150000
DURATION: P120M
GEO:;
END:VEVENT

BEGIN:VEVENT
SUMMARY:Singapore-Re-roar
DESCRIPTION:Master Mixed: Pool A
LOCATION:  9
DTSTART;TZID=Asia/Tokyo:20250905T110000
DURATION: P120M
GEO:;
END:VEVENT

BEGIN:VEVENT
SUMMARY:Philippines-Hong Kong, China
DESCRIPTION:Master Mixed: Pool A
LOCATION:  10
DTSTART;TZID=Asia/Tokyo:20250905T110000
DURATION: P120M
GEO:;
END:VEVENT

BEGIN:VEVENT
SUMMARY:Singapore-Hong Kong, China
DESCRIPTION:Master Mixed: Pool A
LOCATION:  9
DTSTART;TZID=Asia/Tokyo:20250905T150000
DURATION: P120M
GEO:;
END:VEVENT

BEGIN:VEVENT
SUMMARY:Philippines-Re-roar
DESCRIPTION:Master Mixed: Pool A
LOCATION:  10
DTSTART;TZID=Asia/Tokyo:20250905T150000
DURATION: P120M
GEO:;
END:VEVENT

BEGIN:VEVENT
SUMMARY:Gaja-Twig
DESCRIPTION:Open: Pool E
LOCATION:  7
DTSTART;TZID=Asia/Tokyo:20250906T110000
DURATION: P120M
GEO:;
END:VEVENT

BEGIN:VEVENT
SUMMARY:Nomadic Tribe-Sunder
DESCRIPTION:Open: Pool E
LOCATION:  8
DTSTART;TZID=Asia/Tokyo:20250906T110000
DURATION: P120M
GEO:;
END:VEVENT

BEGIN:VEVENT
SUMMARY:Nomadic Tribe-Gaja
DESCRIPTION:Open: Pool E
LOCATION:  7
DTSTART;TZID=Asia/Tokyo:20250906T150000
DURATION: P120M
GEO:;
END:VEVENT

BEGIN:VEVENT
SUMMARY:Sunder-Twig
DESCRIPTION:Open: Pool E
LOCATION:  8
DTSTART;TZID=Asia/Tokyo:20250906T150000
DURATION: P120M
GEO:;
END:VEVENT

BEGIN:VEVENT
SUMMARY:Ellipsis-Rascals
DESCRIPTION:Open: Pool F
LOCATION:  7
DTSTART;TZID=Asia/Tokyo:20250906T090000
DURATION: P120M
GEO:;
END:VEVENT

BEGIN:VEVENT
SUMMARY:Buzz Bullets-Philippines
DESCRIPTION:Open: Pool F
LOCATION:  8
DTSTART;TZID=Asia/Tokyo:20250906T090000
DURATION: P120M
GEO:;
END:VEVENT

BEGIN:VEVENT
SUMMARY:Ellipsis-Buzz Bullets
DESCRIPTION:Open: Pool F
LOCATION:  7
DTSTART;TZID=Asia/Tokyo:20250906T130000
DURATION: P120M
GEO:;
END:VEVENT

BEGIN:VEVENT
SUMMARY:Rascals-Philippines
DESCRIPTION:Open: Pool F
LOCATION:  8
DTSTART;TZID=Asia/Tokyo:20250906T130000
DURATION: P120M
GEO:;
END:VEVENT

BEGIN:VEVENT
SUMMARY:Hot Chilly-Disc Knights
DESCRIPTION:Open: Pool G (9-13)
LOCATION:  9
DTSTART;TZID=Asia/Tokyo:20250906T090000
DURATION: P120M
GEO:;
END:VEVENT

BEGIN:VEVENT
SUMMARY:India-Hornbills
DESCRIPTION:Open: Pool G (9-13)
LOCATION:  10
DTSTART;TZID=Asia/Tokyo:20250906T090000
DURATION: P120M
GEO:;
END:VEVENT

BEGIN:VEVENT
SUMMARY:Hot Chilly-India
DESCRIPTION:Open: Pool G (9-13)
LOCATION:  9
DTSTART;TZID=Asia/Tokyo:20250906T120000
DURATION: P120M
GEO:;
END:VEVENT

BEGIN:VEVENT
SUMMARY:Hornbills-Hong Kong, China
DESCRIPTION:Open: Pool G (9-13)
LOCATION:  10
DTSTART;TZID=Asia/Tokyo:20250906T120000
DURATION: P120M
GEO:;
END:VEVENT

BEGIN:VEVENT
SUMMARY:Hong Kong, China-Disc Knights
DESCRIPTION:Open: Pool G (9-13)
LOCATION:  9
DTSTART;TZID=Asia/Tokyo:20250906T150000
DURATION: P120M
GEO:;
END:VEVENT

BEGIN:VEVENT
SUMMARY:MUD-Huck
DESCRIPTION:Women's: Pre-Semis
LOCATION:  2
DTSTART;TZID=Asia/Tokyo:20250906T110000
DURATION: P120M
GEO:;
END:VEVENT

BEGIN:VEVENT
SUMMARY:Orca-Āwha
DESCRIPTION:Women's: Pre-Semis
LOCATION:  3
DTSTART;TZID=Asia/Tokyo:20250906T110000
DURATION: P120M
GEO:;
END:VEVENT

BEGIN:VEVENT
SUMMARY:Ellipsis-MUD
DESCRIPTION:Women's: Playoff (1-4)
LOCATION:  1
DTSTART;TZID=Asia/Tokyo:20250906T150000
DURATION: P120M
GEO:;
END:VEVENT

BEGIN:VEVENT
SUMMARY:Swampy Barg-Āwha
DESCRIPTION:Women's: Playoff (1-4)
LOCATION:  2
DTSTART;TZID=Asia/Tokyo:20250906T150000
DURATION: P120M
GEO:;
END:VEVENT

BEGIN:VEVENT
SUMMARY:Huck-Tokyo Mavericks
DESCRIPTION:Women's: Playoff (5-8)
LOCATION:  4
DTSTART;TZID=Asia/Tokyo:20250906T150000
DURATION: P120M
GEO:;
END:VEVENT

BEGIN:VEVENT
SUMMARY:Orca-India
DESCRIPTION:Women's: Playoff (5-8)
LOCATION:  5
DTSTART;TZID=Asia/Tokyo:20250906T150000
DURATION: P120M
GEO:;
END:VEVENT

BEGIN:VEVENT
SUMMARY:Philippines-Hibiscus
DESCRIPTION:Women's: Playoff (9-12)
LOCATION:  14
DTSTART;TZID=Asia/Tokyo:20250906T110000
DURATION: P120M
GEO:;
END:VEVENT

BEGIN:VEVENT
SUMMARY:Singapore-Hong Kong, China
DESCRIPTION:Women's: Playoff (9-12)
LOCATION:  15
DTSTART;TZID=Asia/Tokyo:20250906T110000
DURATION: P120M
GEO:;
END:VEVENT

BEGIN:VEVENT
SUMMARY:Philippines-Singapore
DESCRIPTION:Women's: Playoff (9-12) Finals
LOCATION:  14
DTSTART;TZID=Asia/Tokyo:20250906T150000
DURATION: P120M
GEO:;
END:VEVENT

BEGIN:VEVENT
SUMMARY:Hibiscus-Hong Kong, China
DESCRIPTION:Women's: Playoff (9-12) Finals
LOCATION:  15
DTSTART;TZID=Asia/Tokyo:20250906T150000
DURATION: P120M
GEO:;
END:VEVENT

BEGIN:VEVENT
SUMMARY:Gona-Chinese Taipei
DESCRIPTION:Mixed: Playoff (1-8)
LOCATION:  2
DTSTART;TZID=Asia/Tokyo:20250906T090000
DURATION: P120M
GEO:;
END:VEVENT

BEGIN:VEVENT
SUMMARY:Akala-China PR
DESCRIPTION:Mixed: Playoff (1-8)
LOCATION:  3
DTSTART;TZID=Asia/Tokyo:20250906T090000
DURATION: P120M
GEO:;
END:VEVENT

BEGIN:VEVENT
SUMMARY:Philippines-Freakshow
DESCRIPTION:Mixed: Playoff (1-8)
LOCATION:  4
DTSTART;TZID=Asia/Tokyo:20250906T090000
DURATION: P120M
GEO:;
END:VEVENT

BEGIN:VEVENT
SUMMARY:Singapore-SuperNova
DESCRIPTION:Mixed: Playoff (1-8)
LOCATION:  5
DTSTART;TZID=Asia/Tokyo:20250906T090000
DURATION: P120M
GEO:;
END:VEVENT

BEGIN:VEVENT
SUMMARY:China PR-Philippines
DESCRIPTION:Mixed: Playoff (1-8) Semifinals
LOCATION:  1
DTSTART;TZID=Asia/Tokyo:20250906T130000
DURATION: P120M
GEO:;
END:VEVENT

BEGIN:VEVENT
SUMMARY:Singapore-Chinese Taipei
DESCRIPTION:Mixed: Playoff (1-8) Semifinals
LOCATION:  2
DTSTART;TZID=Asia/Tokyo:20250906T130000
DURATION: P120M
GEO:;
END:VEVENT

BEGIN:VEVENT
SUMMARY:SuperNova-Gona
DESCRIPTION:Mixed: Playoff (1-8) Semifinals
LOCATION:  4
DTSTART;TZID=Asia/Tokyo:20250906T130000
DURATION: P120M
GEO:;
END:VEVENT

BEGIN:VEVENT
SUMMARY:Akala-Freakshow
DESCRIPTION:Mixed: Playoff (1-8) Semifinals
LOCATION:  5
DTSTART;TZID=Asia/Tokyo:20250906T130000
DURATION: P120M
GEO:;
END:VEVENT

BEGIN:VEVENT
SUMMARY:IKU!-Manly
DESCRIPTION:Mixed: Playoff (9-16)
LOCATION:  12
DTSTART;TZID=Asia/Tokyo:20250906T090000
DURATION: P120M
GEO:;
END:VEVENT

BEGIN:VEVENT
SUMMARY:Tapir-Brisbanites
DESCRIPTION:Mixed: Playoff (9-16)
LOCATION:  13
DTSTART;TZID=Asia/Tokyo:20250906T090000
DURATION: P120M
GEO:;
END:VEVENT

BEGIN:VEVENT
SUMMARY:Whisby Nation-Alliance
DESCRIPTION:Mixed: Playoff (9-16)
LOCATION:  12
DTSTART;TZID=Asia/Tokyo:20250906T110000
DURATION: P120M
GEO:;
END:VEVENT

BEGIN:VEVENT
SUMMARY:Odinz-Wollongong Krank
DESCRIPTION:Mixed: Playoff (9-16)
LOCATION:  13
DTSTART;TZID=Asia/Tokyo:20250906T110000
DURATION: P120M
GEO:;
END:VEVENT

BEGIN:VEVENT
SUMMARY:Brisbanites-Manly
DESCRIPTION:Mixed: Playoff (9-16) Semifinals
LOCATION:  12
DTSTART;TZID=Asia/Tokyo:20250906T130000
DURATION: P120M
GEO:;
END:VEVENT

BEGIN:VEVENT
SUMMARY:Tapir-IKU!
DESCRIPTION:Mixed: Playoff (9-16) Semifinals
LOCATION:  13
DTSTART;TZID=Asia/Tokyo:20250906T130000
DURATION: P120M
GEO:;
END:VEVENT

BEGIN:VEVENT
SUMMARY:Odinz-Alliance
DESCRIPTION:Mixed: Playoff (9-16) Semifinals
LOCATION:  12
DTSTART;TZID=Asia/Tokyo:20250906T150000
DURATION: P120M
GEO:;
END:VEVENT

BEGIN:VEVENT
SUMMARY:Wollongong Krank-Whisby Nation
DESCRIPTION:Mixed: Playoff (9-16) Semifinals
LOCATION:  13
DTSTART;TZID=Asia/Tokyo:20250906T150000
DURATION: P120M
GEO:;
END:VEVENT

BEGIN:VEVENT
SUMMARY:Kuwait-Guam
DESCRIPTION:Mixed: Pool E
LOCATION:  6
DTSTART;TZID=Asia/Tokyo:20250906T090000
DURATION: P120M
GEO:;
END:VEVENT

BEGIN:VEVENT
SUMMARY:Kappatai-Guam
DESCRIPTION:Mixed: Pool E
LOCATION:  6
DTSTART;TZID=Asia/Tokyo:20250906T120000
DURATION: P120M
GEO:;
END:VEVENT

BEGIN:VEVENT
SUMMARY:Kuwait-Kappatai
DESCRIPTION:Mixed: Pool E
LOCATION:  6
DTSTART;TZID=Asia/Tokyo:20250906T150000
DURATION: P120M
GEO:;
END:VEVENT

BEGIN:VEVENT
SUMMARY:Under24-Hong Kong, China
DESCRIPTION:Mixed: Pool F
LOCATION:  16
DTSTART;TZID=Asia/Tokyo:20250906T090000
DURATION: P120M
GEO:;
END:VEVENT

BEGIN:VEVENT
SUMMARY:Sambo Rice-Hong Kong, China
DESCRIPTION:Mixed: Pool F
LOCATION:  16
DTSTART;TZID=Asia/Tokyo:20250906T120000
DURATION: P120M
GEO:;
END:VEVENT

BEGIN:VEVENT
SUMMARY:Under24-Sambo Rice
DESCRIPTION:Mixed: Pool F
LOCATION:  16
DTSTART;TZID=Asia/Tokyo:20250906T150000
DURATION: P120M
GEO:;
END:VEVENT

BEGIN:VEVENT
SUMMARY:Singapore-Philippines
DESCRIPTION:Master Mixed: Pool A
LOCATION:  14
DTSTART;TZID=Asia/Tokyo:20250906T090000
DURATION: P120M
GEO:;
END:VEVENT

BEGIN:VEVENT
SUMMARY:Re-roar-Hong Kong, China
DESCRIPTION:Master Mixed: Pool A
LOCATION:  15
DTSTART;TZID=Asia/Tokyo:20250906T090000
DURATION: P120M
GEO:;
END:VEVENT

BEGIN:VEVENT
SUMMARY:Singapore-Hong Kong, China
DESCRIPTION:Master Mixed: Bronze
LOCATION:  14
DTSTART;TZID=Asia/Tokyo:20250906T130000
DURATION: P120M
GEO:;
END:VEVENT

BEGIN:VEVENT
SUMMARY:Buzz Bullets-Sunder
DESCRIPTION:Open: Playoff (1-4)
LOCATION:  2
DTSTART;TZID=Asia/Tokyo:20250907T090000
DURATION: P120M
GEO:;
END:VEVENT

BEGIN:VEVENT
SUMMARY:Nomadic Tribe-Rascals
DESCRIPTION:Open: Playoff (1-4)
LOCATION:  3
DTSTART;TZID=Asia/Tokyo:20250907T090000
DURATION: P120M
GEO:;
END:VEVENT

BEGIN:VEVENT
SUMMARY:Rascals-Sunder
DESCRIPTION:Open: Playoff (1-4) Finals
LOCATION:  3
DTSTART;TZID=Asia/Tokyo:20250907T120000
DURATION: P120M
GEO:;
END:VEVENT

BEGIN:VEVENT
SUMMARY:Nomadic Tribe-Buzz Bullets
DESCRIPTION:Open: Playoff (1-4) Finals
LOCATION:  1
DTSTART;TZID=Asia/Tokyo:20250907T130000
DURATION: P120M
GEO:;
END:VEVENT

BEGIN:VEVENT
SUMMARY:Gaja-Ellipsis
DESCRIPTION:Open: Playoff (5-6)
LOCATION:  6
DTSTART;TZID=Asia/Tokyo:20250907T110000
DURATION: P120M
GEO:;
END:VEVENT

BEGIN:VEVENT
SUMMARY:Twig-Philippines
DESCRIPTION:Open: Playoff (7-8)
LOCATION:  4
DTSTART;TZID=Asia/Tokyo:20250907T110000
DURATION: P120M
GEO:;
END:VEVENT

BEGIN:VEVENT
SUMMARY:India-Hong Kong, China
DESCRIPTION:Open: Pool G (9-13)
LOCATION:  14
DTSTART;TZID=Asia/Tokyo:20250907T090000
DURATION: P120M
GEO:;
END:VEVENT

BEGIN:VEVENT
SUMMARY:Hornbills-Disc Knights
DESCRIPTION:Open: Pool G (9-13)
LOCATION:  15
DTSTART;TZID=Asia/Tokyo:20250907T090000
DURATION: P120M
GEO:;
END:VEVENT

BEGIN:VEVENT
SUMMARY:Hot Chilly-Hornbills
DESCRIPTION:Open: Pool G (9-13)
LOCATION:  14
DTSTART;TZID=Asia/Tokyo:20250907T120000
DURATION: P120M
GEO:;
END:VEVENT

BEGIN:VEVENT
SUMMARY:MUD-Āwha
DESCRIPTION:Women's: Playoff (1-4) Finals
LOCATION:  2
DTSTART;TZID=Asia/Tokyo:20250907T110000
DURATION: P120M
GEO:;
END:VEVENT

BEGIN:VEVENT
SUMMARY:Ellipsis-Swampy Barg
DESCRIPTION:Women's: Playoff (1-4) Finals
LOCATION:  1
DTSTART;TZID=Asia/Tokyo:20250907T150000
DURATION: P120M
GEO:;
END:VEVENT

BEGIN:VEVENT
SUMMARY:Tokyo Mavericks-India
DESCRIPTION:Women's: Playoff (5-8) Finals
LOCATION:  5
DTSTART;TZID=Asia/Tokyo:20250907T110000
DURATION: P120M
GEO:;
END:VEVENT

BEGIN:VEVENT
SUMMARY:Huck-Orca
DESCRIPTION:Women's: Playoff (5-8) Finals
LOCATION:  4
DTSTART;TZID=Asia/Tokyo:20250907T130000
DURATION: P120M
GEO:;
END:VEVENT

BEGIN:VEVENT
SUMMARY:Freakshow-SuperNova
DESCRIPTION:Mixed: Playoff (1-8) Finals
LOCATION:  4
DTSTART;TZID=Asia/Tokyo:20250907T090000
DURATION: P120M
GEO:;
END:VEVENT

BEGIN:VEVENT
SUMMARY:China PR-Chinese Taipei
DESCRIPTION:Mixed: Playoff (1-8) Finals
LOCATION:  5
DTSTART;TZID=Asia/Tokyo:20250907T090000
DURATION: P120M
GEO:;
END:VEVENT

BEGIN:VEVENT
SUMMARY:Akala-Gona
DESCRIPTION:Mixed: Playoff (1-8) Finals
LOCATION:  6
DTSTART;TZID=Asia/Tokyo:20250907T090000
DURATION: P120M
GEO:;
END:VEVENT

BEGIN:VEVENT
SUMMARY:Philippines-Singapore
DESCRIPTION:Mixed: Playoff (1-8) Finals
LOCATION:  1
DTSTART;TZID=Asia/Tokyo:20250907T110000
DURATION: P120M
GEO:;
END:VEVENT

BEGIN:VEVENT
SUMMARY:IKU!-Wollongong Krank
DESCRIPTION:Mixed: Playoff (9-16) Finals
LOCATION:  7
DTSTART;TZID=Asia/Tokyo:20250907T090000
DURATION: P120M
GEO:;
END:VEVENT

BEGIN:VEVENT
SUMMARY:Tapir-Whisby Nation
DESCRIPTION:Mixed: Playoff (9-16) Finals
LOCATION:  8
DTSTART;TZID=Asia/Tokyo:20250907T090000
DURATION: P120M
GEO:;
END:VEVENT

BEGIN:VEVENT
SUMMARY:Manly-Alliance
DESCRIPTION:Mixed: Playoff (9-16) Finals
LOCATION:  9
DTSTART;TZID=Asia/Tokyo:20250907T090000
DURATION: P120M
GEO:;
END:VEVENT

BEGIN:VEVENT
SUMMARY:Brisbanites-Odinz
DESCRIPTION:Mixed: Playoff (9-16) Finals
LOCATION:  10
DTSTART;TZID=Asia/Tokyo:20250907T090000
DURATION: P120M
GEO:;
END:VEVENT

BEGIN:VEVENT
SUMMARY:Kuwait-Hong Kong, China
DESCRIPTION:Mixed: Playoff (17-18)
LOCATION:  11
DTSTART;TZID=Asia/Tokyo:20250907T090000
DURATION: P120M
GEO:;
END:VEVENT

BEGIN:VEVENT
SUMMARY:Kappatai-Sambo Rice
DESCRIPTION:Mixed: Playoff (19-20)
LOCATION:  12
DTSTART;TZID=Asia/Tokyo:20250907T090000
DURATION: P120M
GEO:;
END:VEVENT

BEGIN:VEVENT
SUMMARY:Guam-Under24
DESCRIPTION:Mixed: Playoff (21-22)
LOCATION:  13
DTSTART;TZID=Asia/Tokyo:20250907T090000
DURATION: P120M
GEO:;
END:VEVENT

BEGIN:VEVENT
SUMMARY:Philippines-Re-roar
DESCRIPTION:Master Mixed: Gold
LOCATION:  1
DTSTART;TZID=Asia/Tokyo:20250907T090000
DURATION: P120M
GEO:;
END:VEVENT

END:VCALENDAR
