BEGIN:VCALENDAR
VERSION:2.0
PRODID: Ultiorganizer


BEGIN:VEVENT
SUMMARY:Hibiscus-Swampy Barg
DESCRIPTION:Women's: Pool B
LOCATION:  3
DTSTART;TZID=Asia/Tokyo:20250903T150000
DURATION: P120M
GEO:;
END:VEVENT

BEGIN:VEVENT
SUMMARY:MUD-Swampy Barg
DESCRIPTION:Women's: Pool B
LOCATION:  6
DTSTART;TZID=Asia/Tokyo:20250904T110000
DURATION: P120M
GEO:;
END:VEVENT

BEGIN:VEVENT
SUMMARY:Singapore-Swampy Barg
DESCRIPTION:Women's: Pool B
LOCATION:  6
DTSTART;TZID=Asia/Tokyo:20250904T150000
DURATION: P120M
GEO:;
END:VEVENT

BEGIN:VEVENT
SUMMARY:Tokyo Mavericks-Swampy Barg
DESCRIPTION:Women's: Pool B
LOCATION:  13
DTSTART;TZID=Asia/Tokyo:20250905T110000
DURATION: P120M
GEO:;
END:VEVENT

BEGIN:VEVENT
SUMMARY:Āwha-Swampy Barg
DESCRIPTION:Women's: Pool B
LOCATION:  13
DTSTART;TZID=Asia/Tokyo:20250905T150000
DURATION: P120M
GEO:;
END:VEVENT

BEGIN:VEVENT
SUMMARY:Swampy Barg-Āwha
DESCRIPTION:Women's: Playoff (1-4)
LOCATION:  2
DTSTART;TZID=Asia/Tokyo:20250906T150000
DURATION: P120M
GEO:;
END:VEVENT

BEGIN:VEVENT
SUMMARY:Ellipsis-Swampy Barg
DESCRIPTION:Women's: Playoff (1-4) Finals
LOCATION:  1
DTSTART;TZID=Asia/Tokyo:20250907T150000
DURATION: P120M
GEO:;
END:VEVENT

END:VCALENDAR
