BEGIN:VCALENDAR
VERSION:2.0
PRODID: Ultiorganizer


BEGIN:VEVENT
SUMMARY:Singapore-Odinz
DESCRIPTION:Mixed: Pool B
LOCATION:  4
DTSTART;TZID=Asia/Tokyo:20250903T130000
DURATION: P120M
GEO:;
END:VEVENT

BEGIN:VEVENT
SUMMARY:China PR-Odinz
DESCRIPTION:Mixed: Pool B
LOCATION:  13
DTSTART;TZID=Asia/Tokyo:20250904T090000
DURATION: P120M
GEO:;
END:VEVENT

BEGIN:VEVENT
SUMMARY:Odinz-Under24
DESCRIPTION:Mixed: Pool B
LOCATION:  12
DTSTART;TZID=Asia/Tokyo:20250904T130000
DURATION: P120M
GEO:;
END:VEVENT

BEGIN:VEVENT
SUMMARY:Brisbanites-Odinz
DESCRIPTION:Mixed: Pool B
LOCATION:  2
DTSTART;TZID=Asia/Tokyo:20250905T130000
DURATION: P120M
GEO:;
END:VEVENT

BEGIN:VEVENT
SUMMARY:Odinz-Wollongong Krank
DESCRIPTION:Mixed: Playoff (9-16)
LOCATION:  13
DTSTART;TZID=Asia/Tokyo:20250906T110000
DURATION: P120M
GEO:;
END:VEVENT

BEGIN:VEVENT
SUMMARY:Odinz-Alliance
DESCRIPTION:Mixed: Playoff (9-16) Semifinals
LOCATION:  12
DTSTART;TZID=Asia/Tokyo:20250906T150000
DURATION: P120M
GEO:;
END:VEVENT

BEGIN:VEVENT
SUMMARY:Brisbanites-Odinz
DESCRIPTION:Mixed: Playoff (9-16) Finals
LOCATION:  10
DTSTART;TZID=Asia/Tokyo:20250907T090000
DURATION: P120M
GEO:;
END:VEVENT

END:VCALENDAR
