BEGIN:VCALENDAR
VERSION:2.0
PRODID: Ultiorganizer


BEGIN:VEVENT
SUMMARY:Ellipsis-Twig
DESCRIPTION:Open: Pool B
LOCATION:  2
DTSTART;TZID=Asia/Tokyo:20250903T130000
DURATION: P120M
GEO:;
END:VEVENT

BEGIN:VEVENT
SUMMARY:Hornbills-Twig
DESCRIPTION:Open: Pool B
LOCATION:  10
DTSTART;TZID=Asia/Tokyo:20250904T090000
DURATION: P120M
GEO:;
END:VEVENT

BEGIN:VEVENT
SUMMARY:Twig-India
DESCRIPTION:Open: Crossover
LOCATION:  9
DTSTART;TZID=Asia/Tokyo:20250905T090000
DURATION: P120M
GEO:;
END:VEVENT

BEGIN:VEVENT
SUMMARY:Nomadic Tribe-Twig
DESCRIPTION:Open: Pool E
LOCATION:  9
DTSTART;TZID=Asia/Tokyo:20250905T130000
DURATION: P120M
GEO:;
END:VEVENT

BEGIN:VEVENT
SUMMARY:Gaja-Twig
DESCRIPTION:Open: Pool E
LOCATION:  7
DTSTART;TZID=Asia/Tokyo:20250906T110000
DURATION: P120M
GEO:;
END:VEVENT

BEGIN:VEVENT
SUMMARY:Sunder-Twig
DESCRIPTION:Open: Pool E
LOCATION:  8
DTSTART;TZID=Asia/Tokyo:20250906T150000
DURATION: P120M
GEO:;
END:VEVENT

BEGIN:VEVENT
SUMMARY:Twig-Philippines
DESCRIPTION:Open: Playoff (7-8)
LOCATION:  4
DTSTART;TZID=Asia/Tokyo:20250907T110000
DURATION: P120M
GEO:;
END:VEVENT

END:VCALENDAR
