BEGIN:VCALENDAR
VERSION:2.0
PRODID: Ultiorganizer


BEGIN:VEVENT
SUMMARY:Philippines-Orca
DESCRIPTION:Women's: Pool A
LOCATION:  8
DTSTART;TZID=Asia/Tokyo:20250903T130000
DURATION: P120M
GEO:;
END:VEVENT

BEGIN:VEVENT
SUMMARY:Philippines-Huck
DESCRIPTION:Women's: Pool A
LOCATION:  4
DTSTART;TZID=Asia/Tokyo:20250904T090000
DURATION: P120M
GEO:;
END:VEVENT

BEGIN:VEVENT
SUMMARY:Philippines-India
DESCRIPTION:Women's: Pool A
LOCATION:  6
DTSTART;TZID=Asia/Tokyo:20250904T130000
DURATION: P120M
GEO:;
END:VEVENT

BEGIN:VEVENT
SUMMARY:Philippines-Hong Kong, China
DESCRIPTION:Women's: Pool A
LOCATION:  12
DTSTART;TZID=Asia/Tokyo:20250905T090000
DURATION: P120M
GEO:;
END:VEVENT

BEGIN:VEVENT
SUMMARY:Ellipsis-Philippines
DESCRIPTION:Women's: Pool A
LOCATION:  13
DTSTART;TZID=Asia/Tokyo:20250905T130000
DURATION: P120M
GEO:;
END:VEVENT

BEGIN:VEVENT
SUMMARY:Philippines-Hibiscus
DESCRIPTION:Women's: Playoff (9-12)
LOCATION:  14
DTSTART;TZID=Asia/Tokyo:20250906T110000
DURATION: P120M
GEO:;
END:VEVENT

BEGIN:VEVENT
SUMMARY:Philippines-Singapore
DESCRIPTION:Women's: Playoff (9-12) Finals
LOCATION:  14
DTSTART;TZID=Asia/Tokyo:20250906T150000
DURATION: P120M
GEO:;
END:VEVENT

END:VCALENDAR
