BEGIN:VCALENDAR
VERSION:2.0
PRODID: Ultiorganizer


BEGIN:VEVENT
SUMMARY:Gaja-Hot Chilly
DESCRIPTION:Open: Pool D
LOCATION:  10
DTSTART;TZID=Asia/Tokyo:20250903T150000
DURATION: P120M
GEO:;
END:VEVENT

BEGIN:VEVENT
SUMMARY:Gaja-Rascals
DESCRIPTION:Open: Pool D
LOCATION:  2
DTSTART;TZID=Asia/Tokyo:20250904T110000
DURATION: P120M
GEO:;
END:VEVENT

BEGIN:VEVENT
SUMMARY:Disc Knights-Gaja
DESCRIPTION:Open: Pool D
LOCATION:  1
DTSTART;TZID=Asia/Tokyo:20250904T150000
DURATION: P120M
GEO:;
END:VEVENT

BEGIN:VEVENT
SUMMARY:Gaja-Hong Kong, China
DESCRIPTION:Open: Crossover
LOCATION:  10
DTSTART;TZID=Asia/Tokyo:20250905T090000
DURATION: P120M
GEO:;
END:VEVENT

BEGIN:VEVENT
SUMMARY:Sunder-Gaja
DESCRIPTION:Open: Pool E
LOCATION:  10
DTSTART;TZID=Asia/Tokyo:20250905T130000
DURATION: P120M
GEO:;
END:VEVENT

BEGIN:VEVENT
SUMMARY:Gaja-Twig
DESCRIPTION:Open: Pool E
LOCATION:  7
DTSTART;TZID=Asia/Tokyo:20250906T110000
DURATION: P120M
GEO:;
END:VEVENT

BEGIN:VEVENT
SUMMARY:Nomadic Tribe-Gaja
DESCRIPTION:Open: Pool E
LOCATION:  7
DTSTART;TZID=Asia/Tokyo:20250906T150000
DURATION: P120M
GEO:;
END:VEVENT

BEGIN:VEVENT
SUMMARY:Gaja-Ellipsis
DESCRIPTION:Open: Playoff (5-6)
LOCATION:  6
DTSTART;TZID=Asia/Tokyo:20250907T110000
DURATION: P120M
GEO:;
END:VEVENT

END:VCALENDAR
