BEGIN:VCALENDAR
VERSION:2.0
PRODID: Ultiorganizer


BEGIN:VEVENT
SUMMARY:Singapore-Odinz
DESCRIPTION:Mixed: Pool B
LOCATION:  4
DTSTART;TZID=Asia/Tokyo:20250903T130000
DURATION: P120M
GEO:;
END:VEVENT

BEGIN:VEVENT
SUMMARY:Singapore-Brisbanites
DESCRIPTION:Mixed: Pool B
LOCATION:  13
DTSTART;TZID=Asia/Tokyo:20250904T130000
DURATION: P120M
GEO:;
END:VEVENT

BEGIN:VEVENT
SUMMARY:Singapore-Under24
DESCRIPTION:Mixed: Pool B
LOCATION:  2
DTSTART;TZID=Asia/Tokyo:20250905T090000
DURATION: P120M
GEO:;
END:VEVENT

BEGIN:VEVENT
SUMMARY:Singapore-China PR
DESCRIPTION:Mixed: Pool B
LOCATION:  3
DTSTART;TZID=Asia/Tokyo:20250905T130000
DURATION: P120M
GEO:;
END:VEVENT

BEGIN:VEVENT
SUMMARY:Singapore-SuperNova
DESCRIPTION:Mixed: Playoff (1-8)
LOCATION:  5
DTSTART;TZID=Asia/Tokyo:20250906T090000
DURATION: P120M
GEO:;
END:VEVENT

BEGIN:VEVENT
SUMMARY:Singapore-Chinese Taipei
DESCRIPTION:Mixed: Playoff (1-8) Semifinals
LOCATION:  2
DTSTART;TZID=Asia/Tokyo:20250906T130000
DURATION: P120M
GEO:;
END:VEVENT

BEGIN:VEVENT
SUMMARY:Philippines-Singapore
DESCRIPTION:Mixed: Playoff (1-8) Finals
LOCATION:  1
DTSTART;TZID=Asia/Tokyo:20250907T110000
DURATION: P120M
GEO:;
END:VEVENT

END:VCALENDAR
