BEGIN:VCALENDAR
VERSION:2.0
PRODID: Ultiorganizer


BEGIN:VEVENT
SUMMARY:Manly-Whisby Nation
DESCRIPTION:Mixed: Pool C
LOCATION:  13
DTSTART;TZID=Asia/Tokyo:20250903T130000
DURATION: P120M
GEO:;
END:VEVENT

BEGIN:VEVENT
SUMMARY:Kappatai-Whisby Nation
DESCRIPTION:Mixed: Pool C
LOCATION:  3
DTSTART;TZID=Asia/Tokyo:20250904T090000
DURATION: P120M
GEO:;
END:VEVENT

BEGIN:VEVENT
SUMMARY:Freakshow-Whisby Nation
DESCRIPTION:Mixed: Pool C
LOCATION:  2
DTSTART;TZID=Asia/Tokyo:20250904T130000
DURATION: P120M
GEO:;
END:VEVENT

BEGIN:VEVENT
SUMMARY:Hong Kong, China-Whisby Nation
DESCRIPTION:Mixed: Pool C
LOCATION:  6
DTSTART;TZID=Asia/Tokyo:20250905T090000
DURATION: P120M
GEO:;
END:VEVENT

BEGIN:VEVENT
SUMMARY:Gona-Whisby Nation
DESCRIPTION:Mixed: Pool C
LOCATION:  6
DTSTART;TZID=Asia/Tokyo:20250905T130000
DURATION: P120M
GEO:;
END:VEVENT

BEGIN:VEVENT
SUMMARY:Whisby Nation-Alliance
DESCRIPTION:Mixed: Playoff (9-16)
LOCATION:  12
DTSTART;TZID=Asia/Tokyo:20250906T110000
DURATION: P120M
GEO:;
END:VEVENT

BEGIN:VEVENT
SUMMARY:Wollongong Krank-Whisby Nation
DESCRIPTION:Mixed: Playoff (9-16) Semifinals
LOCATION:  13
DTSTART;TZID=Asia/Tokyo:20250906T150000
DURATION: P120M
GEO:;
END:VEVENT

BEGIN:VEVENT
SUMMARY:Tapir-Whisby Nation
DESCRIPTION:Mixed: Playoff (9-16) Finals
LOCATION:  8
DTSTART;TZID=Asia/Tokyo:20250907T090000
DURATION: P120M
GEO:;
END:VEVENT

END:VCALENDAR
