BEGIN:VCALENDAR
VERSION:2.0
PRODID: Ultiorganizer


BEGIN:VEVENT
SUMMARY:France-Spain
DESCRIPTION:Mixed: Showcase
LOCATION:  1
DTSTART;TZID=Europe/Lisbon:20241019T170000
DURATION: P60M
GEO:;
END:VEVENT

END:VCALENDAR
