BEGIN:VCALENDAR
VERSION:2.0
PRODID: Ultiorganizer


BEGIN:VEVENT
SUMMARY:Canada-Germany
DESCRIPTION:Mixed: Pool A
LOCATION:  1
DTSTART;TZID=Europe/London:20220712T093000
DURATION: P120M
GEO:;
END:VEVENT

BEGIN:VEVENT
SUMMARY:United States of America-Great Britain
DESCRIPTION:Mixed: Pool A
LOCATION:  1
DTSTART;TZID=Europe/London:20220712T180000
DURATION: P120M
GEO:;
END:VEVENT

BEGIN:VEVENT
SUMMARY:Australia-France
DESCRIPTION:Mixed: Pool B
LOCATION:  1
DTSTART;TZID=Europe/London:20220712T113000
DURATION: P120M
GEO:;
END:VEVENT

BEGIN:VEVENT
SUMMARY:Colombia-Japan
DESCRIPTION:Mixed: Pool B
LOCATION:  1
DTSTART;TZID=Europe/London:20220712T160000
DURATION: P120M
GEO:;
END:VEVENT

BEGIN:VEVENT
SUMMARY:Canada-Great Britain
DESCRIPTION:Mixed: Pool A
LOCATION:  1
DTSTART;TZID=Europe/London:20220713T113000
DURATION: P120M
GEO:;
END:VEVENT

BEGIN:VEVENT
SUMMARY:United States of America-Germany
DESCRIPTION:Mixed: Pool A
LOCATION:  1
DTSTART;TZID=Europe/London:20220713T160000
DURATION: P120M
GEO:;
END:VEVENT

BEGIN:VEVENT
SUMMARY:Australia-Japan
DESCRIPTION:Mixed: Pool B
LOCATION:  1
DTSTART;TZID=Europe/London:20220713T093000
DURATION: P120M
GEO:;
END:VEVENT

BEGIN:VEVENT
SUMMARY:Colombia-France
DESCRIPTION:Mixed: Pool B
LOCATION:  1
DTSTART;TZID=Europe/London:20220713T180000
DURATION: P120M
GEO:;
END:VEVENT

BEGIN:VEVENT
SUMMARY:Great Britain-Germany
DESCRIPTION:Mixed: Pool A
LOCATION:  1
DTSTART;TZID=Europe/London:20220714T093000
DURATION: P120M
GEO:;
END:VEVENT

BEGIN:VEVENT
SUMMARY:United States of America-Canada
DESCRIPTION:Mixed: Pool A
LOCATION:  1
DTSTART;TZID=Europe/London:20220714T180000
DURATION: P120M
GEO:;
END:VEVENT

BEGIN:VEVENT
SUMMARY:Japan-France
DESCRIPTION:Mixed: Pool B
LOCATION:  1
DTSTART;TZID=Europe/London:20220714T113000
DURATION: P120M
GEO:;
END:VEVENT

BEGIN:VEVENT
SUMMARY:Colombia-Australia
DESCRIPTION:Mixed: Pool B
LOCATION:  1
DTSTART;TZID=Europe/London:20220714T160000
DURATION: P120M
GEO:;
END:VEVENT

BEGIN:VEVENT
SUMMARY:Colombia-United States of America
DESCRIPTION:Mixed: Playoff (1-4)
LOCATION:  1
DTSTART;TZID=Europe/London:20220715T160000
DURATION: P120M
GEO:;
END:VEVENT

BEGIN:VEVENT
SUMMARY:Germany-Australia
DESCRIPTION:Mixed: Playoff (1-4)
LOCATION:  1
DTSTART;TZID=Europe/London:20220715T180000
DURATION: P120M
GEO:;
END:VEVENT

BEGIN:VEVENT
SUMMARY:Canada-France
DESCRIPTION:Mixed: Playoff (5-8)
LOCATION:  1
DTSTART;TZID=Europe/London:20220715T093000
DURATION: P120M
GEO:;
END:VEVENT

BEGIN:VEVENT
SUMMARY:Japan-Great Britain
DESCRIPTION:Mixed: Playoff (5-8)
LOCATION:  1
DTSTART;TZID=Europe/London:20220715T113000
DURATION: P120M
GEO:;
END:VEVENT

BEGIN:VEVENT
SUMMARY:Colombia-Germany
DESCRIPTION:Mixed: Playoff (1-4) Finals
LOCATION:  1
DTSTART;TZID=Europe/London:20220716T160000
DURATION: P120M
GEO:;
END:VEVENT

BEGIN:VEVENT
SUMMARY:United States of America-Australia
DESCRIPTION:Mixed: Playoff (1-4) Finals
LOCATION:  1
DTSTART;TZID=Europe/London:20220716T180000
DURATION: P120M
GEO:;
END:VEVENT

BEGIN:VEVENT
SUMMARY:Canada-Great Britain
DESCRIPTION:Mixed: Playoff (5-8) Finals
LOCATION:  1
DTSTART;TZID=Europe/London:20220716T093000
DURATION: P120M
GEO:;
END:VEVENT

BEGIN:VEVENT
SUMMARY:France-Japan
DESCRIPTION:Mixed: Playoff (5-8) Finals
LOCATION:  1
DTSTART;TZID=Europe/London:20220716T113000
DURATION: P120M
GEO:;
END:VEVENT

END:VCALENDAR
