BEGIN:VCALENDAR
VERSION:2.0
PRODID: Ultiorganizer


BEGIN:VEVENT
SUMMARY:FRA Open U20-SGP Open U20
DESCRIPTION:Open: Pool A
LOCATION:  5
DTSTART;TZID=Europe/London:20240721T163000
DURATION: P120M
GEO:;
END:VEVENT

BEGIN:VEVENT
SUMMARY:FRA Open U20-SUI Open U20
DESCRIPTION:Open: Pool A
LOCATION:  10
DTSTART;TZID=Europe/London:20240722T113000
DURATION: P120M
GEO:;
END:VEVENT

BEGIN:VEVENT
SUMMARY:FRA Open U20-AUS Open U20
DESCRIPTION:Open: Pool A
LOCATION:  11
DTSTART;TZID=Europe/London:20240722T163000
DURATION: P120M
GEO:;
END:VEVENT

BEGIN:VEVENT
SUMMARY:FRA Open U20-GBR Open U20
DESCRIPTION:Open: Pool A
LOCATION:  1
DTSTART;TZID=Europe/London:20240723T113000
DURATION: P120M
GEO:;
END:VEVENT

BEGIN:VEVENT
SUMMARY:FRA Open U20-COL Open U20
DESCRIPTION:Open: Pool A
LOCATION:  3
DTSTART;TZID=Europe/London:20240723T163000
DURATION: P120M
GEO:;
END:VEVENT

BEGIN:VEVENT
SUMMARY:USA Open U20-FRA Open U20
DESCRIPTION:Open: Pool A
LOCATION:  1
DTSTART;TZID=Europe/London:20240724T163000
DURATION: P120M
GEO:;
END:VEVENT

BEGIN:VEVENT
SUMMARY:FRA Open U20-BEL Open U20
DESCRIPTION:Open: Playoff (1-8)
LOCATION:  2
DTSTART;TZID=Europe/London:20240725T163000
DURATION: P120M
GEO:;
END:VEVENT

BEGIN:VEVENT
SUMMARY:FRA Open U20-CAN Open U20
DESCRIPTION:Open: Playoff (1-8) Semifinals
LOCATION:  2
DTSTART;TZID=Europe/London:20240726T110000
DURATION: P120M
GEO:;
END:VEVENT

BEGIN:VEVENT
SUMMARY:USA Open U20-FRA Open U20
DESCRIPTION:Open: Playoff (1-8) Finals
LOCATION:  1
DTSTART;TZID=Europe/London:20240727T120000
DURATION: P120M
GEO:;
END:VEVENT

END:VCALENDAR
