BEGIN:VCALENDAR
VERSION:2.0
PRODID: Ultiorganizer


BEGIN:VEVENT
SUMMARY:QOLD-SOS
DESCRIPTION:Master Mixed: Pool L
LOCATION:  2
DTSTART;TZID=Europe/London:20220628T090000
DURATION: P120M
GEO:;
END:VEVENT

BEGIN:VEVENT
SUMMARY:Long Donkeys-Sugar Mix
DESCRIPTION:Master Mixed: Pool L
LOCATION:  14
DTSTART;TZID=Europe/London:20220628T090000
DURATION: P120M
GEO:;
END:VEVENT

BEGIN:VEVENT
SUMMARY:Sugar Mix-QOLD
DESCRIPTION:Master Mixed: Pool L
LOCATION:  13
DTSTART;TZID=Europe/London:20220628T130000
DURATION: P120M
GEO:;
END:VEVENT

BEGIN:VEVENT
SUMMARY:SOS-Long Donkeys
DESCRIPTION:Master Mixed: Pool L
LOCATION:  14
DTSTART;TZID=Europe/London:20220628T130000
DURATION: P120M
GEO:;
END:VEVENT

BEGIN:VEVENT
SUMMARY:Sugar Mix-SOS
DESCRIPTION:Master Mixed: Pool L
LOCATION:  21
DTSTART;TZID=Europe/London:20220629T150000
DURATION: P120M
GEO:;
END:VEVENT

BEGIN:VEVENT
SUMMARY:QOLD-Long Donkeys
DESCRIPTION:Master Mixed: Pool L
LOCATION:  23
DTSTART;TZID=Europe/London:20220629T150000
DURATION: P120M
GEO:;
END:VEVENT

END:VCALENDAR
