BEGIN:VCALENDAR
VERSION:2.0
PRODID: Ultiorganizer


BEGIN:VEVENT
SUMMARY:Samsui-PUMAS
DESCRIPTION:Master Women's: Pool B
LOCATION:  16
DTSTART;TZID=Europe/London:20220625T160000
DURATION: P120M
GEO:;
END:VEVENT

BEGIN:VEVENT
SUMMARY:lowercase-jinX
DESCRIPTION:Master Women's: Pool B
LOCATION:  27
DTSTART;TZID=Europe/London:20220626T140000
DURATION: P120M
GEO:;
END:VEVENT

BEGIN:VEVENT
SUMMARY:Berta-Kalipso Master
DESCRIPTION:Master Women's: Pool B
LOCATION:  28
DTSTART;TZID=Europe/London:20220626T140000
DURATION: P120M
GEO:;
END:VEVENT

BEGIN:VEVENT
SUMMARY:LMU-Soar! *sore
DESCRIPTION:Master Women's: Pool B
LOCATION:  29
DTSTART;TZID=Europe/London:20220626T140000
DURATION: P120M
GEO:;
END:VEVENT

BEGIN:VEVENT
SUMMARY:PUMAS-Molly Grey
DESCRIPTION:Master Women's: Pool B
LOCATION:  30
DTSTART;TZID=Europe/London:20220626T140000
DURATION: P120M
GEO:;
END:VEVENT

BEGIN:VEVENT
SUMMARY:Kalipso Master-lowercase
DESCRIPTION:Master Women's: Pool B
LOCATION:  27
DTSTART;TZID=Europe/London:20220626T170000
DURATION: P120M
GEO:;
END:VEVENT

BEGIN:VEVENT
SUMMARY:jinX-LMU
DESCRIPTION:Master Women's: Pool B
LOCATION:  28
DTSTART;TZID=Europe/London:20220626T170000
DURATION: P120M
GEO:;
END:VEVENT

BEGIN:VEVENT
SUMMARY:Molly Grey-Soar! *sore
DESCRIPTION:Master Women's: Pool B
LOCATION:  29
DTSTART;TZID=Europe/London:20220626T170000
DURATION: P120M
GEO:;
END:VEVENT

BEGIN:VEVENT
SUMMARY:Berta-Samsui
DESCRIPTION:Master Women's: Pool B
LOCATION:  30
DTSTART;TZID=Europe/London:20220626T170000
DURATION: P120M
GEO:;
END:VEVENT

BEGIN:VEVENT
SUMMARY:Soar! *sore-Samsui
DESCRIPTION:Master Women's: Pool B
LOCATION:  21
DTSTART;TZID=Europe/London:20220627T090000
DURATION: P120M
GEO:;
END:VEVENT

BEGIN:VEVENT
SUMMARY:PUMAS-jinX
DESCRIPTION:Master Women's: Pool B
LOCATION:  22
DTSTART;TZID=Europe/London:20220627T090000
DURATION: P120M
GEO:;
END:VEVENT

BEGIN:VEVENT
SUMMARY:LMU-Kalipso Master
DESCRIPTION:Master Women's: Pool B
LOCATION:  23
DTSTART;TZID=Europe/London:20220627T090000
DURATION: P120M
GEO:;
END:VEVENT

BEGIN:VEVENT
SUMMARY:lowercase-Berta
DESCRIPTION:Master Women's: Pool B
LOCATION:  22
DTSTART;TZID=Europe/London:20220627T110000
DURATION: P120M
GEO:;
END:VEVENT

BEGIN:VEVENT
SUMMARY:jinX-Soar! *sore
DESCRIPTION:Master Women's: Pool B
LOCATION:  21
DTSTART;TZID=Europe/London:20220627T130000
DURATION: P120M
GEO:;
END:VEVENT

BEGIN:VEVENT
SUMMARY:Samsui-Molly Grey
DESCRIPTION:Master Women's: Pool B
LOCATION:  23
DTSTART;TZID=Europe/London:20220627T130000
DURATION: P120M
GEO:;
END:VEVENT

BEGIN:VEVENT
SUMMARY:Berta-LMU
DESCRIPTION:Master Women's: Pool B
LOCATION:  21
DTSTART;TZID=Europe/London:20220627T150000
DURATION: P120M
GEO:;
END:VEVENT

BEGIN:VEVENT
SUMMARY:Kalipso Master-PUMAS
DESCRIPTION:Master Women's: Pool B
LOCATION:  23
DTSTART;TZID=Europe/London:20220627T150000
DURATION: P120M
GEO:;
END:VEVENT

BEGIN:VEVENT
SUMMARY:lowercase-Molly Grey
DESCRIPTION:Master Women's: Pool B
LOCATION:  1
DTSTART;TZID=Europe/London:20220627T170000
DURATION: P120M
GEO:;
END:VEVENT

BEGIN:VEVENT
SUMMARY:LMU-lowercase
DESCRIPTION:Master Women's: Pool B
LOCATION:  5
DTSTART;TZID=Europe/London:20220628T090000
DURATION: P120M
GEO:;
END:VEVENT

BEGIN:VEVENT
SUMMARY:Kalipso Master-Molly Grey
DESCRIPTION:Master Women's: Pool B
LOCATION:  7
DTSTART;TZID=Europe/London:20220628T090000
DURATION: P120M
GEO:;
END:VEVENT

BEGIN:VEVENT
SUMMARY:jinX-Samsui
DESCRIPTION:Master Women's: Pool B
LOCATION:  2
DTSTART;TZID=Europe/London:20220628T110000
DURATION: P120M
GEO:;
END:VEVENT

BEGIN:VEVENT
SUMMARY:PUMAS-Berta
DESCRIPTION:Master Women's: Pool B
LOCATION:  4
DTSTART;TZID=Europe/London:20220628T110000
DURATION: P120M
GEO:;
END:VEVENT

BEGIN:VEVENT
SUMMARY:Soar! *sore-Kalipso Master
DESCRIPTION:Master Women's: Pool B
LOCATION:  5
DTSTART;TZID=Europe/London:20220628T130000
DURATION: P120M
GEO:;
END:VEVENT

BEGIN:VEVENT
SUMMARY:lowercase-PUMAS
DESCRIPTION:Master Women's: Pool B
LOCATION:  2
DTSTART;TZID=Europe/London:20220628T150000
DURATION: P120M
GEO:;
END:VEVENT

BEGIN:VEVENT
SUMMARY:LMU-Samsui
DESCRIPTION:Master Women's: Pool B
LOCATION:  5
DTSTART;TZID=Europe/London:20220628T150000
DURATION: P120M
GEO:;
END:VEVENT

BEGIN:VEVENT
SUMMARY:Berta-Soar! *sore
DESCRIPTION:Master Women's: Pool B
LOCATION:  3
DTSTART;TZID=Europe/London:20220628T170000
DURATION: P120M
GEO:;
END:VEVENT

BEGIN:VEVENT
SUMMARY:Molly Grey-jinX
DESCRIPTION:Master Women's: Pool B
LOCATION:  6
DTSTART;TZID=Europe/London:20220628T170000
DURATION: P120M
GEO:;
END:VEVENT

BEGIN:VEVENT
SUMMARY:Molly Grey-Berta
DESCRIPTION:Master Women's: Pool B
LOCATION:  4
DTSTART;TZID=Europe/London:20220629T090000
DURATION: P120M
GEO:;
END:VEVENT

BEGIN:VEVENT
SUMMARY:Samsui-Kalipso Master
DESCRIPTION:Master Women's: Pool B
LOCATION:  5
DTSTART;TZID=Europe/London:20220629T090000
DURATION: P120M
GEO:;
END:VEVENT

BEGIN:VEVENT
SUMMARY:Soar! *sore-lowercase
DESCRIPTION:Master Women's: Pool B
LOCATION:  5
DTSTART;TZID=Europe/London:20220629T110000
DURATION: P120M
GEO:;
END:VEVENT

BEGIN:VEVENT
SUMMARY:PUMAS-LMU
DESCRIPTION:Master Women's: Pool B
LOCATION:  11
DTSTART;TZID=Europe/London:20220629T110000
DURATION: P120M
GEO:;
END:VEVENT

BEGIN:VEVENT
SUMMARY:Kalipso Master-jinX
DESCRIPTION:Master Women's: Pool B
LOCATION:  1
DTSTART;TZID=Europe/London:20220629T130000
DURATION: P120M
GEO:;
END:VEVENT

BEGIN:VEVENT
SUMMARY:Samsui-lowercase
DESCRIPTION:Master Women's: Pool B
LOCATION:  4
DTSTART;TZID=Europe/London:20220629T150000
DURATION: P120M
GEO:;
END:VEVENT

BEGIN:VEVENT
SUMMARY:Molly Grey-LMU
DESCRIPTION:Master Women's: Pool B
LOCATION:  5
DTSTART;TZID=Europe/London:20220629T150000
DURATION: P120M
GEO:;
END:VEVENT

BEGIN:VEVENT
SUMMARY:jinX-Berta
DESCRIPTION:Master Women's: Pool B
LOCATION:  4
DTSTART;TZID=Europe/London:20220629T170000
DURATION: P120M
GEO:;
END:VEVENT

BEGIN:VEVENT
SUMMARY:Soar! *sore-PUMAS
DESCRIPTION:Master Women's: Pool B
LOCATION:  5
DTSTART;TZID=Europe/London:20220629T170000
DURATION: P120M
GEO:;
END:VEVENT

END:VCALENDAR
