BEGIN:VCALENDAR
VERSION:2.0
PRODID: Ultiorganizer


BEGIN:VEVENT
SUMMARY:Halal-Slower
DESCRIPTION:Master Mixed: Pool A
LOCATION:  5
DTSTART;TZID=Europe/London:20220626T090000
DURATION: P120M
GEO:;
END:VEVENT

BEGIN:VEVENT
SUMMARY:Sugar Mix-Old Main Line Frankfurt
DESCRIPTION:Master Mixed: Pool A
LOCATION:  6
DTSTART;TZID=Europe/London:20220626T090000
DURATION: P120M
GEO:;
END:VEVENT

BEGIN:VEVENT
SUMMARY:Old Main Line Frankfurt-Halal
DESCRIPTION:Master Mixed: Pool A
LOCATION:  27
DTSTART;TZID=Europe/London:20220627T140000
DURATION: P120M
GEO:;
END:VEVENT

BEGIN:VEVENT
SUMMARY:Slower-Sugar Mix
DESCRIPTION:Master Mixed: Pool A
LOCATION:  29
DTSTART;TZID=Europe/London:20220627T140000
DURATION: P120M
GEO:;
END:VEVENT

BEGIN:VEVENT
SUMMARY:Old Main Line Frankfurt-Slower
DESCRIPTION:Master Mixed: Pool A
LOCATION:  27
DTSTART;TZID=Europe/London:20220627T170000
DURATION: P120M
GEO:;
END:VEVENT

BEGIN:VEVENT
SUMMARY:Halal-Sugar Mix
DESCRIPTION:Master Mixed: Pool A
LOCATION:  28
DTSTART;TZID=Europe/London:20220627T170000
DURATION: P120M
GEO:;
END:VEVENT

END:VCALENDAR
