BEGIN:VCALENDAR
VERSION:2.0
PRODID: Ultiorganizer


BEGIN:VEVENT
SUMMARY:PDXtra-Spanglish
DESCRIPTION:Master Women's: Pool A
LOCATION:  6
DTSTART;TZID=Europe/London:20220625T160000
DURATION: P120M
GEO:;
END:VEVENT

BEGIN:VEVENT
SUMMARY:MaQramée-Spanglish
DESCRIPTION:Master Women's: Pool A
LOCATION:  31
DTSTART;TZID=Europe/London:20220626T120000
DURATION: P120M
GEO:;
END:VEVENT

BEGIN:VEVENT
SUMMARY:Ripe-Spanglish
DESCRIPTION:Master Women's: Pool A
LOCATION:  25
DTSTART;TZID=Europe/London:20220627T090000
DURATION: P120M
GEO:;
END:VEVENT

BEGIN:VEVENT
SUMMARY:Spanglish-Reboot Squad
DESCRIPTION:Master Women's: Pool A
LOCATION:  22
DTSTART;TZID=Europe/London:20220627T130000
DURATION: P120M
GEO:;
END:VEVENT

BEGIN:VEVENT
SUMMARY:Les Culottées-Spanglish
DESCRIPTION:Master Women's: Pool A
LOCATION:  3
DTSTART;TZID=Europe/London:20220628T090000
DURATION: P120M
GEO:;
END:VEVENT

BEGIN:VEVENT
SUMMARY:Spanglish-Masterclass
DESCRIPTION:Master Women's: Pool A
LOCATION:  10
DTSTART;TZID=Europe/London:20220628T170000
DURATION: P120M
GEO:;
END:VEVENT

BEGIN:VEVENT
SUMMARY:Spanglish-StellO
DESCRIPTION:Master Women's: Pool A
LOCATION:  15
DTSTART;TZID=Europe/London:20220629T110000
DURATION: P120M
GEO:;
END:VEVENT

BEGIN:VEVENT
SUMMARY:Spanglish-Seagulls
DESCRIPTION:Master Women's: Pool A
LOCATION:  14
DTSTART;TZID=Europe/London:20220629T150000
DURATION: P120M
GEO:;
END:VEVENT

BEGIN:VEVENT
SUMMARY:Spanglish-Samsui
DESCRIPTION:Master Women's: Playoff (15-18)
LOCATION:  8
DTSTART;TZID=Europe/London:20220630T150000
DURATION: P120M
GEO:;
END:VEVENT

BEGIN:VEVENT
SUMMARY:Spanglish-Kalipso Master
DESCRIPTION:Master Women's: Playoff (15-18) Finals
LOCATION:  8
DTSTART;TZID=Europe/London:20220701T110000
DURATION: P120M
GEO:;
END:VEVENT

END:VCALENDAR
