BEGIN:VCALENDAR
VERSION:2.0
PRODID: Ultiorganizer


BEGIN:VEVENT
SUMMARY:Chinese Taipei Guts Women's-Thailand Guts Women's #2
DESCRIPTION:Guts Women's: Brackets GM1-2
LOCATION:  4
DTSTART;TZID=Australia/Brisbane:20240905T110000
DURATION: P40M
GEO:;
END:VEVENT

BEGIN:VEVENT
SUMMARY:Chinese Taipei Guts Women's-Thailand Guts Women's #2
DESCRIPTION:Guts Women's: Brackets GM1-2
LOCATION:  4
DTSTART;TZID=Australia/Brisbane:20240905T114000
DURATION: P40M
GEO:;
END:VEVENT

BEGIN:VEVENT
SUMMARY:Japan Guts Women's-Thailand Guts Women's #1
DESCRIPTION:Guts Women's: Brackets GM1-2
LOCATION:  4
DTSTART;TZID=Australia/Brisbane:20240905T122000
DURATION: P40M
GEO:;
END:VEVENT

BEGIN:VEVENT
SUMMARY:Japan Guts Women's-Thailand Guts Women's #1
DESCRIPTION:Guts Women's: Brackets GM1-2
LOCATION:  4
DTSTART;TZID=Australia/Brisbane:20240905T130000
DURATION: P40M
GEO:;
END:VEVENT

BEGIN:VEVENT
SUMMARY:Chinese Taipei Guts Women's-Thailand Guts Women's #2
DESCRIPTION:Guts Women's: Brackets GM1-2
LOCATION:  4
DTSTART;TZID=Australia/Brisbane:20240906T093000
DURATION: P40M
GEO:;
END:VEVENT

BEGIN:VEVENT
SUMMARY:Japan Guts Women's-Thailand Guts Women's #1
DESCRIPTION:Guts Women's: Brackets GM1-2
LOCATION:  4
DTSTART;TZID=Australia/Brisbane:20240906T101000
DURATION: P40M
GEO:;
END:VEVENT

END:VCALENDAR
