BEGIN:VCALENDAR
VERSION:2.0
PRODID: Ultiorganizer


BEGIN:VEVENT
SUMMARY:Australia Open-New Zealand Open
DESCRIPTION:Open: Pool C
LOCATION:  1
DTSTART;TZID=Australia/Brisbane:20240831T153000
DURATION: P120M
GEO:;
END:VEVENT

BEGIN:VEVENT
SUMMARY:Germany Open-New Zealand Open
DESCRIPTION:Open: Pool C
LOCATION:  8
DTSTART;TZID=Australia/Brisbane:20240901T130000
DURATION: P120M
GEO:;
END:VEVENT

BEGIN:VEVENT
SUMMARY:New Zealand Open-Singapore Open
DESCRIPTION:Open: Pool C
LOCATION:  3
DTSTART;TZID=Australia/Brisbane:20240902T130000
DURATION: P120M
GEO:;
END:VEVENT

BEGIN:VEVENT
SUMMARY:New Zealand Open-Chinese Taipei Open
DESCRIPTION:Open: Pool H
LOCATION:  8
DTSTART;TZID=Australia/Brisbane:20240903T090000
DURATION: P120M
GEO:;
END:VEVENT

BEGIN:VEVENT
SUMMARY:People's Republic of China Open-New Zealand Open
DESCRIPTION:Open: Pool H
LOCATION:  8
DTSTART;TZID=Australia/Brisbane:20240903T130000
DURATION: P120M
GEO:;
END:VEVENT

BEGIN:VEVENT
SUMMARY:Austria Open-New Zealand Open
DESCRIPTION:Open: Pool H
LOCATION:  3
DTSTART;TZID=Australia/Brisbane:20240904T110000
DURATION: P120M
GEO:;
END:VEVENT

BEGIN:VEVENT
SUMMARY:Japan Open-New Zealand Open
DESCRIPTION:Open: Crossover
LOCATION:  1
DTSTART;TZID=Australia/Brisbane:20240904T153000
DURATION: P120M
GEO:;
END:VEVENT

BEGIN:VEVENT
SUMMARY:New Zealand Open-Hong Kong, China Open
DESCRIPTION:Open: Playoff (9-16)
LOCATION:  6
DTSTART;TZID=Australia/Brisbane:20240905T110000
DURATION: P120M
GEO:;
END:VEVENT

BEGIN:VEVENT
SUMMARY:New Zealand Open-Italy Open
DESCRIPTION:Open: Playoff (9-16) Semifinals
LOCATION:  10
DTSTART;TZID=Australia/Brisbane:20240905T150000
DURATION: P120M
GEO:;
END:VEVENT

BEGIN:VEVENT
SUMMARY:New Zealand Open-France Open
DESCRIPTION:Open: Playoff (9-16) Finals
LOCATION:  3
DTSTART;TZID=Australia/Brisbane:20240906T110000
DURATION: P120M
GEO:;
END:VEVENT

END:VCALENDAR
