BEGIN:VCALENDAR
VERSION:2.0
PRODID: Ultiorganizer


BEGIN:VEVENT
SUMMARY:United States of America Women's-New Zealand Women's
DESCRIPTION:Women's: Pool A
LOCATION:  1
DTSTART;TZID=Australia/Brisbane:20240901T090000
DURATION: P120M
GEO:;
END:VEVENT

BEGIN:VEVENT
SUMMARY:New Zealand Women's-People's Republic of China Women's
DESCRIPTION:Women's: Pool A
LOCATION:  10
DTSTART;TZID=Australia/Brisbane:20240901T130000
DURATION: P120M
GEO:;
END:VEVENT

BEGIN:VEVENT
SUMMARY:Australia Women's-New Zealand Women's
DESCRIPTION:Women's: Pool A
LOCATION:  8
DTSTART;TZID=Australia/Brisbane:20240902T110000
DURATION: P120M
GEO:;
END:VEVENT

BEGIN:VEVENT
SUMMARY:New Zealand Women's-France Women's
DESCRIPTION:Women's: Pool A
LOCATION:  8
DTSTART;TZID=Australia/Brisbane:20240902T150000
DURATION: P120M
GEO:;
END:VEVENT

BEGIN:VEVENT
SUMMARY:Japan Women's-New Zealand Women's
DESCRIPTION:Women's: Pool A
LOCATION:  10
DTSTART;TZID=Australia/Brisbane:20240903T130000
DURATION: P120M
GEO:;
END:VEVENT

BEGIN:VEVENT
SUMMARY:New Zealand Women's-Chinese Taipei Women's
DESCRIPTION:Women's: Pool D
LOCATION:  8
DTSTART;TZID=Australia/Brisbane:20240904T110000
DURATION: P120M
GEO:;
END:VEVENT

BEGIN:VEVENT
SUMMARY:New Zealand Women's-Germany Women's
DESCRIPTION:Women's: Pool D
LOCATION:  5
DTSTART;TZID=Australia/Brisbane:20240905T110000
DURATION: P120M
GEO:;
END:VEVENT

BEGIN:VEVENT
SUMMARY:New Zealand Women's-France Women's
DESCRIPTION:Women's: Crossover
LOCATION:  4
DTSTART;TZID=Australia/Brisbane:20240905T153000
DURATION: P120M
GEO:;
END:VEVENT

BEGIN:VEVENT
SUMMARY:Germany Women's-New Zealand Women's
DESCRIPTION:Women's: Playoff (5-8)
LOCATION:  5
DTSTART;TZID=Australia/Brisbane:20240906T093000
DURATION: P120M
GEO:;
END:VEVENT

BEGIN:VEVENT
SUMMARY:Japan Women's-New Zealand Women's
DESCRIPTION:Women's: Playoff (5-8) Finals
LOCATION:  3
DTSTART;TZID=Australia/Brisbane:20240906T130000
DURATION: P120M
GEO:;
END:VEVENT

END:VCALENDAR
