BEGIN:VCALENDAR
VERSION:2.0
PRODID: Ultiorganizer


BEGIN:VEVENT
SUMMARY:New Zealand Mixed-India Mixed
DESCRIPTION:Mixed: Pool B
LOCATION:  9
DTSTART;TZID=Australia/Brisbane:20240901T090000
DURATION: P120M
GEO:;
END:VEVENT

BEGIN:VEVENT
SUMMARY:Australia Mixed-New Zealand Mixed
DESCRIPTION:Mixed: Pool B
LOCATION:  1
DTSTART;TZID=Australia/Brisbane:20240901T153000
DURATION: P120M
GEO:;
END:VEVENT

BEGIN:VEVENT
SUMMARY:Italy Mixed-New Zealand Mixed
DESCRIPTION:Mixed: Pool B
LOCATION:  10
DTSTART;TZID=Australia/Brisbane:20240902T110000
DURATION: P120M
GEO:;
END:VEVENT

BEGIN:VEVENT
SUMMARY:New Zealand Mixed-People's Republic of China Mixed
DESCRIPTION:Mixed: Pool B
LOCATION:  3
DTSTART;TZID=Australia/Brisbane:20240903T110000
DURATION: P120M
GEO:;
END:VEVENT

BEGIN:VEVENT
SUMMARY:New Zealand Mixed-Malaysia Mixed
DESCRIPTION:Mixed: Pool H
LOCATION:  9
DTSTART;TZID=Australia/Brisbane:20240903T150000
DURATION: P120M
GEO:;
END:VEVENT

BEGIN:VEVENT
SUMMARY:New Zealand Mixed-Colombia Mixed
DESCRIPTION:Mixed: Pool H
LOCATION:  11
DTSTART;TZID=Australia/Brisbane:20240904T090000
DURATION: P120M
GEO:;
END:VEVENT

BEGIN:VEVENT
SUMMARY:New Zealand Mixed-Hong Kong, China Mixed
DESCRIPTION:Mixed: Pool H
LOCATION:  10
DTSTART;TZID=Australia/Brisbane:20240904T130000
DURATION: P120M
GEO:;
END:VEVENT

BEGIN:VEVENT
SUMMARY:Great Britain Mixed-New Zealand Mixed
DESCRIPTION:Mixed: Playoff (9-16)
LOCATION:  3
DTSTART;TZID=Australia/Brisbane:20240905T090000
DURATION: P120M
GEO:;
END:VEVENT

BEGIN:VEVENT
SUMMARY:New Zealand Mixed-Argentina Mixed
DESCRIPTION:Mixed: Playoff (9-16) Semifinals
LOCATION:  3
DTSTART;TZID=Australia/Brisbane:20240905T130000
DURATION: P120M
GEO:;
END:VEVENT

BEGIN:VEVENT
SUMMARY:New Zealand Mixed-Austria Mixed
DESCRIPTION:Mixed: Playoff (9-16) Finals
LOCATION:  9
DTSTART;TZID=Australia/Brisbane:20240906T110000
DURATION: P120M
GEO:;
END:VEVENT

END:VCALENDAR
