BEGIN:VCALENDAR
VERSION:2.0
PRODID: Ultiorganizer


BEGIN:VEVENT
SUMMARY:Germany Open-Singapore Open
DESCRIPTION:Open: Pool C
LOCATION:  5
DTSTART;TZID=Australia/Brisbane:20240901T090000
DURATION: P120M
GEO:;
END:VEVENT

BEGIN:VEVENT
SUMMARY:Australia Open-Singapore Open
DESCRIPTION:Open: Pool C
LOCATION:  12
DTSTART;TZID=Australia/Brisbane:20240901T130000
DURATION: P120M
GEO:;
END:VEVENT

BEGIN:VEVENT
SUMMARY:New Zealand Open-Singapore Open
DESCRIPTION:Open: Pool C
LOCATION:  3
DTSTART;TZID=Australia/Brisbane:20240902T130000
DURATION: P120M
GEO:;
END:VEVENT

BEGIN:VEVENT
SUMMARY:Singapore Open-Italy Open
DESCRIPTION:Open: Pool G
LOCATION:  3
DTSTART;TZID=Australia/Brisbane:20240903T090000
DURATION: P120M
GEO:;
END:VEVENT

BEGIN:VEVENT
SUMMARY:France Open-Singapore Open
DESCRIPTION:Open: Pool G
LOCATION:  9
DTSTART;TZID=Australia/Brisbane:20240903T130000
DURATION: P120M
GEO:;
END:VEVENT

BEGIN:VEVENT
SUMMARY:Hong Kong, China Open-Singapore Open
DESCRIPTION:Open: Pool G
LOCATION:  9
DTSTART;TZID=Australia/Brisbane:20240904T110000
DURATION: P120M
GEO:;
END:VEVENT

BEGIN:VEVENT
SUMMARY:Austria Open-Singapore Open
DESCRIPTION:Open: Playoff (9-16)
LOCATION:  8
DTSTART;TZID=Australia/Brisbane:20240905T110000
DURATION: P120M
GEO:;
END:VEVENT

BEGIN:VEVENT
SUMMARY:People's Republic of China Open-Singapore Open
DESCRIPTION:Open: Playoff (9-16) Semifinals
LOCATION:  9
DTSTART;TZID=Australia/Brisbane:20240905T150000
DURATION: P120M
GEO:;
END:VEVENT

BEGIN:VEVENT
SUMMARY:Hong Kong, China Open-Singapore Open
DESCRIPTION:Open: Playoff (9-16) Finals
LOCATION:  8
DTSTART;TZID=Australia/Brisbane:20240906T110000
DURATION: P120M
GEO:;
END:VEVENT

END:VCALENDAR
