BEGIN:VCALENDAR
VERSION:2.0
PRODID: Ultiorganizer


BEGIN:VEVENT
SUMMARY:Germany Women's-Singapore Women's
DESCRIPTION:Women's: Pool B
LOCATION:  2
DTSTART;TZID=Australia/Brisbane:20240901T110000
DURATION: P120M
GEO:;
END:VEVENT

BEGIN:VEVENT
SUMMARY:Colombia Women's-Singapore Women's
DESCRIPTION:Women's: Pool B
LOCATION:  10
DTSTART;TZID=Australia/Brisbane:20240901T150000
DURATION: P120M
GEO:;
END:VEVENT

BEGIN:VEVENT
SUMMARY:Canada Women's-Singapore Women's
DESCRIPTION:Women's: Pool B
LOCATION:  7
DTSTART;TZID=Australia/Brisbane:20240902T090000
DURATION: P120M
GEO:;
END:VEVENT

BEGIN:VEVENT
SUMMARY:Great Britain Women's-Singapore Women's
DESCRIPTION:Women's: Pool B
LOCATION:  6
DTSTART;TZID=Australia/Brisbane:20240902T130000
DURATION: P120M
GEO:;
END:VEVENT

BEGIN:VEVENT
SUMMARY:Singapore Women's-Chinese Taipei Women's
DESCRIPTION:Women's: Pool B
LOCATION:  4
DTSTART;TZID=Australia/Brisbane:20240903T090000
DURATION: P120M
GEO:;
END:VEVENT

BEGIN:VEVENT
SUMMARY:France Women's-Singapore Women's
DESCRIPTION:Women's: Pool E
LOCATION:  5
DTSTART;TZID=Australia/Brisbane:20240904T133000
DURATION: P120M
GEO:;
END:VEVENT

BEGIN:VEVENT
SUMMARY:People's Republic of China Women's-Singapore Women's
DESCRIPTION:Women's: Pool E
LOCATION:  10
DTSTART;TZID=Australia/Brisbane:20240905T110000
DURATION: P120M
GEO:;
END:VEVENT

BEGIN:VEVENT
SUMMARY:Chinese Taipei Women's-Singapore Women's
DESCRIPTION:Women's: Crossover
LOCATION:  5
DTSTART;TZID=Australia/Brisbane:20240905T153000
DURATION: P120M
GEO:;
END:VEVENT

BEGIN:VEVENT
SUMMARY:Singapore Women's-Great Britain Women's
DESCRIPTION:Women's: Playoff (9-12)
LOCATION:  6
DTSTART;TZID=Australia/Brisbane:20240906T090000
DURATION: P120M
GEO:;
END:VEVENT

BEGIN:VEVENT
SUMMARY:People's Republic of China Women's-Singapore Women's
DESCRIPTION:Women's: Playoff (9-12) Finals
LOCATION:  8
DTSTART;TZID=Australia/Brisbane:20240906T130000
DURATION: P120M
GEO:;
END:VEVENT

END:VCALENDAR
