BEGIN:VCALENDAR
VERSION:2.0
PRODID: Ultiorganizer


BEGIN:VEVENT
SUMMARY:Singapore Mixed-Chinese Taipei Mixed
DESCRIPTION:Mixed: Pool D
LOCATION:  3
DTSTART;TZID=Australia/Brisbane:20240901T090000
DURATION: P120M
GEO:;
END:VEVENT

BEGIN:VEVENT
SUMMARY:Colombia Mixed-Singapore Mixed
DESCRIPTION:Mixed: Pool D
LOCATION:  6
DTSTART;TZID=Australia/Brisbane:20240901T130000
DURATION: P120M
GEO:;
END:VEVENT

BEGIN:VEVENT
SUMMARY:Singapore Mixed-Malaysia Mixed
DESCRIPTION:Mixed: Pool D
LOCATION:  11
DTSTART;TZID=Australia/Brisbane:20240902T110000
DURATION: P120M
GEO:;
END:VEVENT

BEGIN:VEVENT
SUMMARY:Singapore Mixed-Hong Kong, China Mixed
DESCRIPTION:Mixed: Pool D
LOCATION:  10
DTSTART;TZID=Australia/Brisbane:20240902T150000
DURATION: P120M
GEO:;
END:VEVENT

BEGIN:VEVENT
SUMMARY:France Mixed-Singapore Mixed
DESCRIPTION:Mixed: Pool D
LOCATION:  4
DTSTART;TZID=Australia/Brisbane:20240903T110000
DURATION: P120M
GEO:;
END:VEVENT

BEGIN:VEVENT
SUMMARY:Australia Mixed-Singapore Mixed
DESCRIPTION:Mixed: Pool F
LOCATION:  1
DTSTART;TZID=Australia/Brisbane:20240903T150000
DURATION: P120M
GEO:;
END:VEVENT

BEGIN:VEVENT
SUMMARY:Italy Mixed-Singapore Mixed
DESCRIPTION:Mixed: Pool F
LOCATION:  7
DTSTART;TZID=Australia/Brisbane:20240904T090000
DURATION: P120M
GEO:;
END:VEVENT

BEGIN:VEVENT
SUMMARY:India Mixed-Singapore Mixed
DESCRIPTION:Mixed: Pool F
LOCATION:  1
DTSTART;TZID=Australia/Brisbane:20240904T133000
DURATION: P120M
GEO:;
END:VEVENT

BEGIN:VEVENT
SUMMARY:Canada Mixed-Singapore Mixed
DESCRIPTION:Mixed: Playoff (1-8)
LOCATION:  4
DTSTART;TZID=Australia/Brisbane:20240905T090000
DURATION: P120M
GEO:;
END:VEVENT

BEGIN:VEVENT
SUMMARY:Germany Mixed-Singapore Mixed
DESCRIPTION:Mixed: Playoff (1-8) Semifinals
LOCATION:  5
DTSTART;TZID=Australia/Brisbane:20240905T133000
DURATION: P120M
GEO:;
END:VEVENT

BEGIN:VEVENT
SUMMARY:Italy Mixed-Singapore Mixed
DESCRIPTION:Mixed: Playoff (1-8) Finals
LOCATION:  4
DTSTART;TZID=Australia/Brisbane:20240906T113000
DURATION: P120M
GEO:;
END:VEVENT

END:VCALENDAR
