BEGIN:VCALENDAR
VERSION:2.0
PRODID: Ultiorganizer


BEGIN:VEVENT
SUMMARY:Singapore Mixed-Chinese Taipei Mixed
DESCRIPTION:Mixed: Pool D
LOCATION:  3
DTSTART;TZID=Australia/Brisbane:20240901T090000
DURATION: P120M
GEO:;
END:VEVENT

BEGIN:VEVENT
SUMMARY:Colombia Mixed-Malaysia Mixed
DESCRIPTION:Mixed: Pool D
LOCATION:  6
DTSTART;TZID=Australia/Brisbane:20240901T090000
DURATION: P120M
GEO:;
END:VEVENT

BEGIN:VEVENT
SUMMARY:France Mixed-Hong Kong, China Mixed
DESCRIPTION:Mixed: Pool D
LOCATION:  7
DTSTART;TZID=Australia/Brisbane:20240901T090000
DURATION: P120M
GEO:;
END:VEVENT

BEGIN:VEVENT
SUMMARY:Colombia Mixed-Singapore Mixed
DESCRIPTION:Mixed: Pool D
LOCATION:  6
DTSTART;TZID=Australia/Brisbane:20240901T130000
DURATION: P120M
GEO:;
END:VEVENT

BEGIN:VEVENT
SUMMARY:Hong Kong, China Mixed-Malaysia Mixed
DESCRIPTION:Mixed: Pool D
LOCATION:  7
DTSTART;TZID=Australia/Brisbane:20240901T130000
DURATION: P120M
GEO:;
END:VEVENT

BEGIN:VEVENT
SUMMARY:France Mixed-Chinese Taipei Mixed
DESCRIPTION:Mixed: Pool D
LOCATION:  9
DTSTART;TZID=Australia/Brisbane:20240901T130000
DURATION: P120M
GEO:;
END:VEVENT

BEGIN:VEVENT
SUMMARY:France Mixed-Colombia Mixed
DESCRIPTION:Mixed: Pool D
LOCATION:  2
DTSTART;TZID=Australia/Brisbane:20240902T110000
DURATION: P120M
GEO:;
END:VEVENT

BEGIN:VEVENT
SUMMARY:Hong Kong, China Mixed-Chinese Taipei Mixed
DESCRIPTION:Mixed: Pool D
LOCATION:  4
DTSTART;TZID=Australia/Brisbane:20240902T110000
DURATION: P120M
GEO:;
END:VEVENT

BEGIN:VEVENT
SUMMARY:Singapore Mixed-Malaysia Mixed
DESCRIPTION:Mixed: Pool D
LOCATION:  11
DTSTART;TZID=Australia/Brisbane:20240902T110000
DURATION: P120M
GEO:;
END:VEVENT

BEGIN:VEVENT
SUMMARY:France Mixed-Malaysia Mixed
DESCRIPTION:Mixed: Pool D
LOCATION:  9
DTSTART;TZID=Australia/Brisbane:20240902T150000
DURATION: P120M
GEO:;
END:VEVENT

BEGIN:VEVENT
SUMMARY:Singapore Mixed-Hong Kong, China Mixed
DESCRIPTION:Mixed: Pool D
LOCATION:  10
DTSTART;TZID=Australia/Brisbane:20240902T150000
DURATION: P120M
GEO:;
END:VEVENT

BEGIN:VEVENT
SUMMARY:Colombia Mixed-Chinese Taipei Mixed
DESCRIPTION:Mixed: Pool D
LOCATION:  11
DTSTART;TZID=Australia/Brisbane:20240902T150000
DURATION: P120M
GEO:;
END:VEVENT

BEGIN:VEVENT
SUMMARY:France Mixed-Singapore Mixed
DESCRIPTION:Mixed: Pool D
LOCATION:  4
DTSTART;TZID=Australia/Brisbane:20240903T110000
DURATION: P120M
GEO:;
END:VEVENT

BEGIN:VEVENT
SUMMARY:Chinese Taipei Mixed-Malaysia Mixed
DESCRIPTION:Mixed: Pool D
LOCATION:  5
DTSTART;TZID=Australia/Brisbane:20240903T110000
DURATION: P120M
GEO:;
END:VEVENT

BEGIN:VEVENT
SUMMARY:Colombia Mixed-Hong Kong, China Mixed
DESCRIPTION:Mixed: Pool D
LOCATION:  6
DTSTART;TZID=Australia/Brisbane:20240903T110000
DURATION: P120M
GEO:;
END:VEVENT

END:VCALENDAR
