BEGIN:VCALENDAR
VERSION:2.0
PRODID: Ultiorganizer


BEGIN:VEVENT
SUMMARY:Switzerland Mixed-Republic of Korea Mixed
DESCRIPTION:Mixed: Pool G
LOCATION:  6
DTSTART;TZID=Australia/Brisbane:20240903T150000
DURATION: P120M
GEO:;
END:VEVENT

BEGIN:VEVENT
SUMMARY:Argentina Mixed-Panama Mixed
DESCRIPTION:Mixed: Pool G
LOCATION:  8
DTSTART;TZID=Australia/Brisbane:20240903T150000
DURATION: P120M
GEO:;
END:VEVENT

BEGIN:VEVENT
SUMMARY:Argentina Mixed-Republic of Korea Mixed
DESCRIPTION:Mixed: Pool G
LOCATION:  11
DTSTART;TZID=Australia/Brisbane:20240904T110000
DURATION: P120M
GEO:;
END:VEVENT

BEGIN:VEVENT
SUMMARY:Switzerland Mixed-Panama Mixed
DESCRIPTION:Mixed: Pool G
LOCATION:  12
DTSTART;TZID=Australia/Brisbane:20240904T110000
DURATION: P120M
GEO:;
END:VEVENT

END:VCALENDAR
