BEGIN:VCALENDAR
VERSION:2.0
PRODID: Ultiorganizer


BEGIN:VEVENT
SUMMARY:Thailand Guts Women's #1-Chinese Taipei Guts Women's
DESCRIPTION:Guts Women's: Brackets GM5
LOCATION:  2
DTSTART;TZID=Australia/Brisbane:20240907T093000
DURATION: P40M
GEO:;
END:VEVENT

END:VCALENDAR
